BEGIN:VCALENDAR
VERSION:2.0
PRODID:-//Gemeinde Haunsheim - ECPv6.15.20//NONSGML v1.0//EN
CALSCALE:GREGORIAN
METHOD:PUBLISH
X-WR-CALNAME:Gemeinde Haunsheim
X-ORIGINAL-URL:https://haunsheim.de
X-WR-CALDESC:Veranstaltungen für Gemeinde Haunsheim
REFRESH-INTERVAL;VALUE=DURATION:PT1H
X-Robots-Tag:noindex
X-PUBLISHED-TTL:PT1H
BEGIN:VTIMEZONE
TZID:Europe/Berlin
BEGIN:DAYLIGHT
TZOFFSETFROM:+0100
TZOFFSETTO:+0200
TZNAME:CEST
DTSTART:20230326T010000
END:DAYLIGHT
BEGIN:STANDARD
TZOFFSETFROM:+0200
TZOFFSETTO:+0100
TZNAME:CET
DTSTART:20231029T010000
END:STANDARD
BEGIN:DAYLIGHT
TZOFFSETFROM:+0100
TZOFFSETTO:+0200
TZNAME:CEST
DTSTART:20240331T010000
END:DAYLIGHT
BEGIN:STANDARD
TZOFFSETFROM:+0200
TZOFFSETTO:+0100
TZNAME:CET
DTSTART:20241027T010000
END:STANDARD
BEGIN:DAYLIGHT
TZOFFSETFROM:+0100
TZOFFSETTO:+0200
TZNAME:CEST
DTSTART:20250330T010000
END:DAYLIGHT
BEGIN:STANDARD
TZOFFSETFROM:+0200
TZOFFSETTO:+0100
TZNAME:CET
DTSTART:20251026T010000
END:STANDARD
BEGIN:DAYLIGHT
TZOFFSETFROM:+0100
TZOFFSETTO:+0200
TZNAME:CEST
DTSTART:20260329T010000
END:DAYLIGHT
BEGIN:STANDARD
TZOFFSETFROM:+0200
TZOFFSETTO:+0100
TZNAME:CET
DTSTART:20261025T010000
END:STANDARD
BEGIN:DAYLIGHT
TZOFFSETFROM:+0100
TZOFFSETTO:+0200
TZNAME:CEST
DTSTART:20270328T010000
END:DAYLIGHT
BEGIN:STANDARD
TZOFFSETFROM:+0200
TZOFFSETTO:+0100
TZNAME:CET
DTSTART:20271031T010000
END:STANDARD
END:VTIMEZONE
BEGIN:VEVENT
DTSTART;VALUE=DATE:20260228
DTEND;VALUE=DATE:20260301
DTSTAMP:20260422T020631
CREATED:20260203T182947Z
LAST-MODIFIED:20260203T182947Z
UID:10000226-1772236800-1772323199@haunsheim.de
SUMMARY:Generalversammlung FFW Unterbechingen
DESCRIPTION:
URL:https://haunsheim.de/termin/generalversammlung-ffw-unterbechingen-2/
LOCATION:Sportheim Unterbechingen\, Haunsheimer Weg 4\, Haunsheim\, Bayern\, 89437\, Deutschland
CATEGORIES:Sitzung
END:VEVENT
BEGIN:VEVENT
DTSTART;VALUE=DATE:20250314
DTEND;VALUE=DATE:20250315
DTSTAMP:20260422T020631
CREATED:20241205T091640Z
LAST-MODIFIED:20241205T091640Z
UID:10000163-1741910400-1741996799@haunsheim.de
SUMMARY:Generalversammlung FC Unterbechingen
DESCRIPTION:Der FC Unterbechingen lädt alle Mitglieder zu seiner Generalversammlung in das Sportheim Unterbechingen (Haunsheimer Weg) herzlich ein.
URL:https://haunsheim.de/termin/generalversammlung-fc-unterbechingen-2/
LOCATION:Sportheim Unterbechingen\, Haunsheimer Weg 4\, Haunsheim\, Bayern\, 89437\, Deutschland
ATTACH;FMTTYPE=image/jpeg:https://haunsheim.de/wp-content/uploads/2023/09/fc-unterbechingen.jpg
END:VEVENT
BEGIN:VEVENT
DTSTART;VALUE=DATE:20241027
DTEND;VALUE=DATE:20241028
DTSTAMP:20260422T020631
CREATED:20231116T214154Z
LAST-MODIFIED:20231116T214154Z
UID:10000086-1729987200-1730073599@haunsheim.de
SUMMARY:Kirchweihessen - FC Unterbechingen
DESCRIPTION:
URL:https://haunsheim.de/termin/kirchweihessen-fc-unterbechingen-2/
LOCATION:Sportheim Unterbechingen\, Haunsheimer Weg 4\, Haunsheim\, Bayern\, 89437\, Deutschland
CATEGORIES:Feste,Freizeitaktivität
END:VEVENT
BEGIN:VEVENT
DTSTART;VALUE=DATE:20241026
DTEND;VALUE=DATE:20241027
DTSTAMP:20260422T020631
CREATED:20231116T214027Z
LAST-MODIFIED:20231116T214048Z
UID:10000085-1729900800-1729987199@haunsheim.de
SUMMARY:Kirchweihessen - FC Unterbechingen
DESCRIPTION:
URL:https://haunsheim.de/termin/kirchweihessen-fc-unterbechingen/
LOCATION:Sportheim Unterbechingen\, Haunsheimer Weg 4\, Haunsheim\, Bayern\, 89437\, Deutschland
CATEGORIES:Feste,Freizeitaktivität
END:VEVENT
BEGIN:VEVENT
DTSTART;VALUE=DATE:20240928
DTEND;VALUE=DATE:20240929
DTSTAMP:20260422T020631
CREATED:20231116T213726Z
LAST-MODIFIED:20231116T213726Z
UID:10000083-1727481600-1727567999@haunsheim.de
SUMMARY:Oktoberfest FC - Unterbechingen
DESCRIPTION:
URL:https://haunsheim.de/termin/oktoberfest-fc-unterbechingen/
LOCATION:Sportheim Unterbechingen\, Haunsheimer Weg 4\, Haunsheim\, Bayern\, 89437\, Deutschland
CATEGORIES:Feste,Freizeitaktivität
END:VEVENT
BEGIN:VEVENT
DTSTART;VALUE=DATE:20240324
DTEND;VALUE=DATE:20240325
DTSTAMP:20260422T020631
CREATED:20231116T200144Z
LAST-MODIFIED:20231116T200144Z
UID:10000046-1711267200-1711299600@haunsheim.de
SUMMARY:Theateraufführung FCU
DESCRIPTION:
URL:https://haunsheim.de/termin/theaterauffuehrung-fcu/2024-03-24/
LOCATION:Sportheim Unterbechingen\, Haunsheimer Weg 4\, Haunsheim\, Bayern\, 89437\, Deutschland
CATEGORIES:Freizeitaktivität
END:VEVENT
BEGIN:VEVENT
DTSTART;VALUE=DATE:20240323
DTEND;VALUE=DATE:20240324
DTSTAMP:20260422T020631
CREATED:20231116T200144Z
LAST-MODIFIED:20231116T200144Z
UID:10000045-1711180800-1711213200@haunsheim.de
SUMMARY:Theateraufführung FCU
DESCRIPTION:
URL:https://haunsheim.de/termin/theaterauffuehrung-fcu/2024-03-23/
LOCATION:Sportheim Unterbechingen\, Haunsheimer Weg 4\, Haunsheim\, Bayern\, 89437\, Deutschland
CATEGORIES:Freizeitaktivität
END:VEVENT
BEGIN:VEVENT
DTSTART;VALUE=DATE:20240322
DTEND;VALUE=DATE:20240323
DTSTAMP:20260422T020631
CREATED:20231116T200144Z
LAST-MODIFIED:20231116T200144Z
UID:10000044-1711094400-1711126800@haunsheim.de
SUMMARY:Theateraufführung FCU
DESCRIPTION:
URL:https://haunsheim.de/termin/theaterauffuehrung-fcu/2024-03-22/
LOCATION:Sportheim Unterbechingen\, Haunsheimer Weg 4\, Haunsheim\, Bayern\, 89437\, Deutschland
CATEGORIES:Freizeitaktivität
END:VEVENT
BEGIN:VEVENT
DTSTART;VALUE=DATE:20240317
DTEND;VALUE=DATE:20240318
DTSTAMP:20260422T020631
CREATED:20231116T200144Z
LAST-MODIFIED:20231116T200144Z
UID:10000043-1710662400-1710694800@haunsheim.de
SUMMARY:Theateraufführung FCU
DESCRIPTION:
URL:https://haunsheim.de/termin/theaterauffuehrung-fcu/2024-03-17/
LOCATION:Sportheim Unterbechingen\, Haunsheimer Weg 4\, Haunsheim\, Bayern\, 89437\, Deutschland
CATEGORIES:Freizeitaktivität
END:VEVENT
BEGIN:VEVENT
DTSTART;VALUE=DATE:20240316
DTEND;VALUE=DATE:20240317
DTSTAMP:20260422T020631
CREATED:20231116T200144Z
LAST-MODIFIED:20231116T200144Z
UID:10000042-1710576000-1710608400@haunsheim.de
SUMMARY:Theateraufführung FCU
DESCRIPTION:
URL:https://haunsheim.de/termin/theaterauffuehrung-fcu/2024-03-16/
LOCATION:Sportheim Unterbechingen\, Haunsheimer Weg 4\, Haunsheim\, Bayern\, 89437\, Deutschland
CATEGORIES:Freizeitaktivität
END:VEVENT
BEGIN:VEVENT
DTSTART;VALUE=DATE:20240315
DTEND;VALUE=DATE:20240316
DTSTAMP:20260422T020631
CREATED:20231116T200144Z
LAST-MODIFIED:20231116T200144Z
UID:10000041-1710460800-1710547199@haunsheim.de
SUMMARY:Theateraufführung FCU
DESCRIPTION:
URL:https://haunsheim.de/termin/theaterauffuehrung-fcu/2024-03-15/
LOCATION:Sportheim Unterbechingen\, Haunsheimer Weg 4\, Haunsheim\, Bayern\, 89437\, Deutschland
CATEGORIES:Freizeitaktivität
END:VEVENT
BEGIN:VEVENT
DTSTART;VALUE=DATE:20240308
DTEND;VALUE=DATE:20240309
DTSTAMP:20260422T020631
CREATED:20231116T195249Z
LAST-MODIFIED:20231116T195249Z
UID:10000036-1709856000-1709942399@haunsheim.de
SUMMARY:Generalversammlung FC Unterbechingen
DESCRIPTION:
URL:https://haunsheim.de/termin/generalversammlung-fc-unterbechingen/
LOCATION:Sportheim Unterbechingen\, Haunsheimer Weg 4\, Haunsheim\, Bayern\, 89437\, Deutschland
CATEGORIES:Sitzung
END:VEVENT
END:VCALENDAR