BEGIN:VCALENDAR
VERSION:2.0
PRODID:-//Gemeinde Haunsheim - ECPv6.15.20//NONSGML v1.0//EN
CALSCALE:GREGORIAN
METHOD:PUBLISH
X-ORIGINAL-URL:https://haunsheim.de
X-WR-CALDESC:Veranstaltungen für Gemeinde Haunsheim
REFRESH-INTERVAL;VALUE=DURATION:PT1H
X-Robots-Tag:noindex
X-PUBLISHED-TTL:PT1H
BEGIN:VTIMEZONE
TZID:Europe/Berlin
BEGIN:DAYLIGHT
TZOFFSETFROM:+0100
TZOFFSETTO:+0200
TZNAME:CEST
DTSTART:20230326T010000
END:DAYLIGHT
BEGIN:STANDARD
TZOFFSETFROM:+0200
TZOFFSETTO:+0100
TZNAME:CET
DTSTART:20231029T010000
END:STANDARD
BEGIN:DAYLIGHT
TZOFFSETFROM:+0100
TZOFFSETTO:+0200
TZNAME:CEST
DTSTART:20240331T010000
END:DAYLIGHT
BEGIN:STANDARD
TZOFFSETFROM:+0200
TZOFFSETTO:+0100
TZNAME:CET
DTSTART:20241027T010000
END:STANDARD
BEGIN:DAYLIGHT
TZOFFSETFROM:+0100
TZOFFSETTO:+0200
TZNAME:CEST
DTSTART:20250330T010000
END:DAYLIGHT
BEGIN:STANDARD
TZOFFSETFROM:+0200
TZOFFSETTO:+0100
TZNAME:CET
DTSTART:20251026T010000
END:STANDARD
BEGIN:DAYLIGHT
TZOFFSETFROM:+0100
TZOFFSETTO:+0200
TZNAME:CEST
DTSTART:20260329T010000
END:DAYLIGHT
BEGIN:STANDARD
TZOFFSETFROM:+0200
TZOFFSETTO:+0100
TZNAME:CET
DTSTART:20261025T010000
END:STANDARD
BEGIN:DAYLIGHT
TZOFFSETFROM:+0100
TZOFFSETTO:+0200
TZNAME:CEST
DTSTART:20270328T010000
END:DAYLIGHT
BEGIN:STANDARD
TZOFFSETFROM:+0200
TZOFFSETTO:+0100
TZNAME:CET
DTSTART:20271031T010000
END:STANDARD
END:VTIMEZONE
BEGIN:VEVENT
DTSTART;TZID=Europe/Berlin:20260401T193000
DTEND;TZID=Europe/Berlin:20260401T220000
DTSTAMP:20260422T015916
CREATED:20260224T184050Z
LAST-MODIFIED:20260224T184050Z
UID:10000235-1775071800-1775080800@haunsheim.de
SUMMARY:Mitgliederversammlung WG Plattenhau & Pfannental
DESCRIPTION:
URL:https://haunsheim.de/termin/mitgliederversammlung-wg-plattenhau-pfannental/
LOCATION:Sportheim FCU\, Haunsheimer Weg 4\, Haunsheim\, Bayern\, 89437\, Deutschland
CATEGORIES:Sitzung
END:VEVENT
BEGIN:VEVENT
DTSTART;TZID=Europe/Berlin:20260321T193000
DTEND;TZID=Europe/Berlin:20260321T230000
DTSTAMP:20260422T015916
CREATED:20260224T183327Z
LAST-MODIFIED:20260224T183327Z
UID:10000232-1774121400-1774134000@haunsheim.de
SUMMARY:VdK-Theateraufführung
DESCRIPTION:Es ist wieder soweit. Die Theatergruppe des FC Unterbechingen wird auch heuer wieder für Sie auf der Bühne stehen und die Komödie „Ach du lieber Gott“ in drei Akten von Cornelia Willinger auf den Brettern\, die die Welt bedeuten\, zum Besten geben.\nDie Proben und Vorbereitungen laufen bereits seit Beginn des Jahres auf Hochtouren.\nWenn Gott im Kloster Nonnen und Sterneküche zusammenbringt\, „Ach du lieber Gott“\, dann ist was geboten
URL:https://haunsheim.de/termin/vdk-theaterauffuehrung/
LOCATION:Sportheim FCU\, Haunsheimer Weg 4\, Haunsheim\, Bayern\, 89437\, Deutschland
CATEGORIES:Freizeitaktivität
ORGANIZER;CN="VDK Haunsheim":MAILTO:fischbacher.haunsheim@freenet.de
END:VEVENT
BEGIN:VEVENT
DTSTART;TZID=Europe/Berlin:20260320T190000
DTEND;TZID=Europe/Berlin:20260328T220000
DTSTAMP:20260422T015916
CREATED:20260224T183112Z
LAST-MODIFIED:20260224T183112Z
UID:10000231-1774033200-1774735200@haunsheim.de
SUMMARY:Theatergruppe des FC Unterbechingen - Theateraufführung 2026
DESCRIPTION:Es ist wieder soweit. Die Theatergruppe des FC Unterbechingen wird auch heuer wieder für Sie auf der Bühne stehen und die Komödie „Ach du lieber Gott“ in drei Akten von Cornelia Willinger auf den Brettern\, die die Welt bedeuten\, zum Besten geben.\nDie Proben und Vorbereitungen laufen bereits seit Beginn des Jahres auf Hochtouren.\nWenn Gott im Kloster Nonnen und Sterneküche zusammenbringt\, „Ach du lieber Gott“\, dann ist was geboten ….\nDie Vorstellungen finden statt am\nFreitag 20. März  19 Uhr       Samstag 21. März  19 Uhr     Sonntag 22. März  18 Uhr\nFreitag 27. März  19 Uhr       Samstag 28. März  19 Uhr\nEinlass jeweils eine Stunde vorher.\nNEU: Sonntag 29. März ab 10 Uhr\nWeißwurstfrühstück mit anschließender Theatervorführung um 11 Uhr und nachmittags Kaffee und Kuchen.\nKartenreservierung NUR TELEFONISCH !!\nKarten können am Freitag 07. März 2026 ab 17 Uhr unter Tel.-Nr. 0151 23 35 16 75\nund ab 08. März 2026 werktags von 18 Uhr bis 20 Uhr unter derselben Tel.-Nr. reserviert werden.\nAuch kulinarisch kommen die Besucher wieder auf ihre Kosten.
URL:https://haunsheim.de/termin/theatergruppe-des-fc-unterbechingen-theaterauffuehrung-2026/
LOCATION:Sportheim FCU\, Haunsheimer Weg 4\, Haunsheim\, Bayern\, 89437\, Deutschland
CATEGORIES:Freizeitaktivität
END:VEVENT
BEGIN:VEVENT
DTSTART;VALUE=DATE:20260227
DTEND;VALUE=DATE:20260228
DTSTAMP:20260422T015916
CREATED:20260203T182833Z
LAST-MODIFIED:20260203T182833Z
UID:10000225-1772150400-1772236799@haunsheim.de
SUMMARY:Generalversammlung FCU Unterbechingen
DESCRIPTION:Beginn: 18.00 Uhr
URL:https://haunsheim.de/termin/generalversammlung-fcu-unterbechingen/
LOCATION:Sportheim FCU\, Haunsheimer Weg 4\, Haunsheim\, Bayern\, 89437\, Deutschland
CATEGORIES:Sitzung
END:VEVENT
BEGIN:VEVENT
DTSTART;VALUE=DATE:20250411
DTEND;VALUE=DATE:20250414
DTSTAMP:20260422T015916
CREATED:20250225T174538Z
LAST-MODIFIED:20250225T174538Z
UID:10000172-1744329600-1744588799@haunsheim.de
SUMMARY:Theateraufführung FCU
DESCRIPTION:
URL:https://haunsheim.de/termin/theaterauffuehrung-fcu-3/
LOCATION:Sportheim FCU\, Haunsheimer Weg 4\, Haunsheim\, Bayern\, 89437\, Deutschland
CATEGORIES:Freizeitaktivität
ATTACH;FMTTYPE=image/jpeg:https://haunsheim.de/wp-content/uploads/2023/09/fc-unterbechingen.jpg
END:VEVENT
BEGIN:VEVENT
DTSTART;VALUE=DATE:20250404
DTEND;VALUE=DATE:20250407
DTSTAMP:20260422T015916
CREATED:20250225T174413Z
LAST-MODIFIED:20250225T174413Z
UID:10000171-1743724800-1743983999@haunsheim.de
SUMMARY:Theateraufführung FCU
DESCRIPTION:
URL:https://haunsheim.de/termin/theaterauffuehrung-fcu-2/
LOCATION:Sportheim FCU\, Haunsheimer Weg 4\, Haunsheim\, Bayern\, 89437\, Deutschland
CATEGORIES:Freizeitaktivität
ATTACH;FMTTYPE=image/jpeg:https://haunsheim.de/wp-content/uploads/2023/09/fc-unterbechingen.jpg
END:VEVENT
BEGIN:VEVENT
DTSTART;TZID=Europe/Berlin:20250325T193000
DTEND;TZID=Europe/Berlin:20250325T230000
DTSTAMP:20260422T015916
CREATED:20250225T093632Z
LAST-MODIFIED:20250225T093632Z
UID:10000165-1742931000-1742943600@haunsheim.de
SUMMARY:Generalversammlung OGV Unterbechingen
DESCRIPTION:Der Obst- und Gartenbauverein Unterbechingen hält am 25.03.2025 seine alljährliche Jahreshauptversammlung ab. Beginn ist um 19.30 im Sportheim in Unterbechingen (Pfannentalweg)
URL:https://haunsheim.de/termin/generalversammlung-ogv-unterbechingen/
LOCATION:Sportheim FCU\, Haunsheimer Weg 4\, Haunsheim\, Bayern\, 89437\, Deutschland
CATEGORIES:Sitzung
ORGANIZER;CN="Obst- und Gartenbauverein Unterbechingen":MAILTO:ajschaeffler@netcom-mail.de
END:VEVENT
BEGIN:VEVENT
DTSTART;VALUE=DATE:20250309
DTEND;VALUE=DATE:20250310
DTSTAMP:20260422T015916
CREATED:20241205T091302Z
LAST-MODIFIED:20241205T091302Z
UID:10000162-1741478400-1741564799@haunsheim.de
SUMMARY:Jahreshauptversammlung Heimatverein Unterbechingen
DESCRIPTION:Der Heimatverein Unterbechingen hält im Sportheim in Unterbechingen (Haunsheimer Weg) seine alljährliche Hauptversammlung ab. Alle Mitglieder sind herzlich eingeladen.
URL:https://haunsheim.de/termin/jahreshauptversammlung-heimatverein-unterbechingen-2/
LOCATION:Sportheim FCU\, Haunsheimer Weg 4\, Haunsheim\, Bayern\, 89437\, Deutschland
CATEGORIES:Sitzung
ORGANIZER;CN="Heimatverein Unterbechingen":MAILTO:k_hille@freenet.de
END:VEVENT
BEGIN:VEVENT
DTSTART;VALUE=DATE:20240504
DTEND;VALUE=DATE:20240505
DTSTAMP:20260422T015916
CREATED:20231116T205146Z
LAST-MODIFIED:20231116T205146Z
UID:10000061-1714780800-1714867199@haunsheim.de
SUMMARY:Schäufele Essen - FCU Unterbechingen
DESCRIPTION:
URL:https://haunsheim.de/termin/schaeufele-essen-fcu-unterbechingen/
LOCATION:Sportheim FCU\, Haunsheimer Weg 4\, Haunsheim\, Bayern\, 89437\, Deutschland
CATEGORIES:Feste,Freizeitaktivität
END:VEVENT
BEGIN:VEVENT
DTSTART;TZID=Europe/Berlin:20240420T193000
DTEND;TZID=Europe/Berlin:20240420T213000
DTSTAMP:20260422T015916
CREATED:20231116T203546Z
LAST-MODIFIED:20231116T203741Z
UID:10000055-1713641400-1713648600@haunsheim.de
SUMMARY:Generalversammlung FFW Unterbechingen
DESCRIPTION:
URL:https://haunsheim.de/termin/generalversammlung-ffw-unterbechingen/
LOCATION:Sportheim FCU\, Haunsheimer Weg 4\, Haunsheim\, Bayern\, 89437\, Deutschland
CATEGORIES:Sitzung
ORGANIZER;CN="Freiwillige Feuerwehr Haunsheim":MAILTO:michael.wydra@gmx.net
END:VEVENT
BEGIN:VEVENT
DTSTART;TZID=Europe/Berlin:20240327T193000
DTEND;TZID=Europe/Berlin:20240327T213000
DTSTAMP:20260422T015916
CREATED:20231116T200846Z
LAST-MODIFIED:20231116T201038Z
UID:10000048-1711567800-1711575000@haunsheim.de
SUMMARY:Mitgliederversammlung Waldgemeinschaft Plattenhau & Pfannental
DESCRIPTION:
URL:https://haunsheim.de/termin/mitgliederversammlung-waldgemeinschaft-plattenhau-pfannental/
LOCATION:Sportheim FCU\, Haunsheimer Weg 4\, Haunsheim\, Bayern\, 89437\, Deutschland
CATEGORIES:Sitzung
END:VEVENT
END:VCALENDAR