BEGIN:VCALENDAR
VERSION:2.0
PRODID:-//Gemeinde Haunsheim - ECPv6.15.20//NONSGML v1.0//EN
CALSCALE:GREGORIAN
METHOD:PUBLISH
X-ORIGINAL-URL:https://haunsheim.de
X-WR-CALDESC:Veranstaltungen für Gemeinde Haunsheim
REFRESH-INTERVAL;VALUE=DURATION:PT1H
X-Robots-Tag:noindex
X-PUBLISHED-TTL:PT1H
BEGIN:VTIMEZONE
TZID:Europe/Berlin
BEGIN:DAYLIGHT
TZOFFSETFROM:+0100
TZOFFSETTO:+0200
TZNAME:CEST
DTSTART:20220327T010000
END:DAYLIGHT
BEGIN:STANDARD
TZOFFSETFROM:+0200
TZOFFSETTO:+0100
TZNAME:CET
DTSTART:20221030T010000
END:STANDARD
BEGIN:DAYLIGHT
TZOFFSETFROM:+0100
TZOFFSETTO:+0200
TZNAME:CEST
DTSTART:20230326T010000
END:DAYLIGHT
BEGIN:STANDARD
TZOFFSETFROM:+0200
TZOFFSETTO:+0100
TZNAME:CET
DTSTART:20231029T010000
END:STANDARD
BEGIN:DAYLIGHT
TZOFFSETFROM:+0100
TZOFFSETTO:+0200
TZNAME:CEST
DTSTART:20240331T010000
END:DAYLIGHT
BEGIN:STANDARD
TZOFFSETFROM:+0200
TZOFFSETTO:+0100
TZNAME:CET
DTSTART:20241027T010000
END:STANDARD
BEGIN:DAYLIGHT
TZOFFSETFROM:+0100
TZOFFSETTO:+0200
TZNAME:CEST
DTSTART:20250330T010000
END:DAYLIGHT
BEGIN:STANDARD
TZOFFSETFROM:+0200
TZOFFSETTO:+0100
TZNAME:CET
DTSTART:20251026T010000
END:STANDARD
BEGIN:DAYLIGHT
TZOFFSETFROM:+0100
TZOFFSETTO:+0200
TZNAME:CEST
DTSTART:20260329T010000
END:DAYLIGHT
BEGIN:STANDARD
TZOFFSETFROM:+0200
TZOFFSETTO:+0100
TZNAME:CET
DTSTART:20261025T010000
END:STANDARD
END:VTIMEZONE
BEGIN:VEVENT
DTSTART;VALUE=DATE:20250308
DTEND;VALUE=DATE:20250309
DTSTAMP:20260422T165150
CREATED:20241203T185011Z
LAST-MODIFIED:20241203T185311Z
UID:10000161-1741392000-1741478399@haunsheim.de
SUMMARY:Schlachtfest Schützenverein Haunsheim
DESCRIPTION:Im Gastraum der Ökonomie (Hauptstraße 29a) lädt der Schützenverein Haunsheim zu seinem traditionellen Schlachtfest ein. Der Verein freut sich auf zahlreiche Besucher.
URL:https://haunsheim.de/termin/schlachtfest-schuetzenverein-haunsheim/
LOCATION:Schützenheim – Haunsheim\, Hauptstraße 29a\, Haunsheim\, 89437
CATEGORIES:Feste,Freizeitaktivität
ATTACH;FMTTYPE=image/jpeg:https://haunsheim.de/wp-content/uploads/2023/09/schuetzenverein-haunsheim-klein.jpg
END:VEVENT
BEGIN:VEVENT
DTSTART;VALUE=DATE:20241031
DTEND;VALUE=DATE:20241101
DTSTAMP:20260422T165150
CREATED:20231116T214347Z
LAST-MODIFIED:20231116T214347Z
UID:10000087-1730332800-1730419199@haunsheim.de
SUMMARY:Halloween-Party bei den Schützen
DESCRIPTION:
URL:https://haunsheim.de/termin/halloween-party-bei-den-schuetzen/
LOCATION:Schützenheim – Haunsheim\, Hauptstraße 29a\, Haunsheim\, 89437
CATEGORIES:Feste,Freizeitaktivität
END:VEVENT
BEGIN:VEVENT
DTSTART;VALUE=DATE:20240509
DTEND;VALUE=DATE:20240510
DTSTAMP:20260422T165150
CREATED:20231116T205317Z
LAST-MODIFIED:20231116T205854Z
UID:10000062-1715212800-1715299199@haunsheim.de
SUMMARY:Vatertagsradtour - Schützenverein Haunsheim
DESCRIPTION:
URL:https://haunsheim.de/termin/vatertagsradtour-schuetzenverein-haunsheim/
LOCATION:Schützenheim – Haunsheim\, Hauptstraße 29a\, Haunsheim\, 89437
CATEGORIES:Freizeitaktivität
END:VEVENT
BEGIN:VEVENT
DTSTART;VALUE=DATE:20231231
DTEND;VALUE=DATE:20240101
DTSTAMP:20260422T165150
CREATED:20231116T173426Z
LAST-MODIFIED:20231116T220926Z
UID:10000017-1703980800-1704067199@haunsheim.de
SUMMARY:Silvesterpokal - Schützenverein Haunsheim
DESCRIPTION:
URL:https://haunsheim.de/termin/silvesterpokal/
LOCATION:Schützenheim – Haunsheim\, Hauptstraße 29a\, Haunsheim\, 89437
CATEGORIES:Turnier
END:VEVENT
END:VCALENDAR