BEGIN:VCALENDAR
VERSION:2.0
PRODID:-//Gemeinde Haunsheim - ECPv6.15.20//NONSGML v1.0//EN
CALSCALE:GREGORIAN
METHOD:PUBLISH
X-WR-CALNAME:Gemeinde Haunsheim
X-ORIGINAL-URL:https://haunsheim.de
X-WR-CALDESC:Veranstaltungen für Gemeinde Haunsheim
REFRESH-INTERVAL;VALUE=DURATION:PT1H
X-Robots-Tag:noindex
X-PUBLISHED-TTL:PT1H
BEGIN:VTIMEZONE
TZID:Europe/Berlin
BEGIN:DAYLIGHT
TZOFFSETFROM:+0100
TZOFFSETTO:+0200
TZNAME:CEST
DTSTART:20220327T010000
END:DAYLIGHT
BEGIN:STANDARD
TZOFFSETFROM:+0200
TZOFFSETTO:+0100
TZNAME:CET
DTSTART:20221030T010000
END:STANDARD
BEGIN:DAYLIGHT
TZOFFSETFROM:+0100
TZOFFSETTO:+0200
TZNAME:CEST
DTSTART:20230326T010000
END:DAYLIGHT
BEGIN:STANDARD
TZOFFSETFROM:+0200
TZOFFSETTO:+0100
TZNAME:CET
DTSTART:20231029T010000
END:STANDARD
BEGIN:DAYLIGHT
TZOFFSETFROM:+0100
TZOFFSETTO:+0200
TZNAME:CEST
DTSTART:20240331T010000
END:DAYLIGHT
BEGIN:STANDARD
TZOFFSETFROM:+0200
TZOFFSETTO:+0100
TZNAME:CET
DTSTART:20241027T010000
END:STANDARD
BEGIN:DAYLIGHT
TZOFFSETFROM:+0100
TZOFFSETTO:+0200
TZNAME:CEST
DTSTART:20250330T010000
END:DAYLIGHT
BEGIN:STANDARD
TZOFFSETFROM:+0200
TZOFFSETTO:+0100
TZNAME:CET
DTSTART:20251026T010000
END:STANDARD
BEGIN:DAYLIGHT
TZOFFSETFROM:+0100
TZOFFSETTO:+0200
TZNAME:CEST
DTSTART:20260329T010000
END:DAYLIGHT
BEGIN:STANDARD
TZOFFSETFROM:+0200
TZOFFSETTO:+0100
TZNAME:CET
DTSTART:20261025T010000
END:STANDARD
BEGIN:DAYLIGHT
TZOFFSETFROM:+0100
TZOFFSETTO:+0200
TZNAME:CEST
DTSTART:20270328T010000
END:DAYLIGHT
BEGIN:STANDARD
TZOFFSETFROM:+0200
TZOFFSETTO:+0100
TZNAME:CET
DTSTART:20271031T010000
END:STANDARD
END:VTIMEZONE
BEGIN:VEVENT
DTSTART;TZID=Europe/Berlin:20260419T140000
DTEND;TZID=Europe/Berlin:20260419T170000
DTSTAMP:20260422T001146
CREATED:20260224T184747Z
LAST-MODIFIED:20260224T184747Z
UID:10000242-1776607200-1776618000@haunsheim.de
SUMMARY:Vortrag zur Geschichte Heimatverein Unterbechingen
DESCRIPTION:Ort = Evtl. Schützenheim Unterbechingen \nWird noch genau bekannt gegeben
URL:https://haunsheim.de/termin/vortrag-zur-geschichte-heimatverein-unterbechingen/
LOCATION:Schützenheim – Unterbechingen\, Sachsenhauser Straße 3\, Haunsheim-Unterbechingen\, Bayern\, 89437\, Deutschland
CATEGORIES:Freizeitaktivität
ORGANIZER;CN="Heimatverein Unterbechingen":MAILTO:k_hille@freenet.de
END:VEVENT
BEGIN:VEVENT
DTSTART;TZID=Europe/Berlin:20260328T140000
DTEND;TZID=Europe/Berlin:20260328T170000
DTSTAMP:20260422T001146
CREATED:20260224T183715Z
LAST-MODIFIED:20260224T183715Z
UID:10000234-1774706400-1774717200@haunsheim.de
SUMMARY:Jahreshauptversammlung VdK Unteres Bachtal
DESCRIPTION:
URL:https://haunsheim.de/termin/jahreshauptversammlung-vdk-unteres-bachtal/
LOCATION:Schützenheim – Unterbechingen\, Sachsenhauser Straße 3\, Haunsheim-Unterbechingen\, Bayern\, 89437\, Deutschland
CATEGORIES:Sitzung
ORGANIZER;CN="VDK Haunsheim":MAILTO:fischbacher.haunsheim@freenet.de
END:VEVENT
BEGIN:VEVENT
DTSTART;TZID=Europe/Berlin:20260310T193000
DTEND;TZID=Europe/Berlin:20260310T230000
DTSTAMP:20260422T001146
CREATED:20260224T182749Z
LAST-MODIFIED:20260224T182749Z
UID:10000230-1773171000-1773183600@haunsheim.de
SUMMARY:Generalversammlung Obst- und Gartenbauverein Unterbechingen
DESCRIPTION:Am Dienstag den 10.03.2026 laden wir alle Mitglieder\, Gartenfreunde und Teeliebhaber ins Schützenheim in Unterbechingen zur diesjährigen Jahreshauptversammlung ein.\nBeginn: 19.30 Uhr\nTagesordnungspunkte: \n\nBegrüßung\nBericht des Vorstandes\nReferat von Maria Burlefinger „Teekräuter das Jahr über“\nmit Teeverkostung\nKurze Pause\nBericht der Schriftführerin\nBericht der Kassiererin\nKassenprüfung und Entlastung\nEhrungen\nNeuwahlen\nWünsche und Anträge\n\nWir freuen uns auf einen kurzweiligen und interessanten Abend.
URL:https://haunsheim.de/termin/generalversammlung-obst-und-gartenbauverein-unterbechingen-2/
LOCATION:Schützenheim – Unterbechingen\, Sachsenhauser Straße 3\, Haunsheim-Unterbechingen\, Bayern\, 89437\, Deutschland
CATEGORIES:Sitzung
ORGANIZER;CN="Obst- und Gartenbauverein Unterbechingen":MAILTO:ajschaeffler@netcom-mail.de
END:VEVENT
BEGIN:VEVENT
DTSTART;TZID=Europe/Berlin:20260307T180000
DTEND;TZID=Europe/Berlin:20260307T210000
DTSTAMP:20260422T001146
CREATED:20260224T182522Z
LAST-MODIFIED:20260224T182522Z
UID:10000229-1772906400-1772917200@haunsheim.de
SUMMARY:Kesselfleischessen Schützen Unterbechingen
DESCRIPTION:Zu unserem Kesselfleischessen mit Blut- und Leberwurst sowie Sauerkraut laden wir die Bevölkerung beider Ortsteile am Samstag\, 07. März\, ab 18.00 Uhr recht herzlich ein. Wir freuen uns über Ihren Besuch. \n 
URL:https://haunsheim.de/termin/kesselfleischessen-schuetzen-unterbechingen/
LOCATION:Schützenheim – Unterbechingen\, Sachsenhauser Straße 3\, Haunsheim-Unterbechingen\, Bayern\, 89437\, Deutschland
CATEGORIES:Feste,Freizeitaktivität
ORGANIZER;CN="Sch%C3%BCtzenverein Unterbechingen":MAILTO:dptauscher@t-online.de
END:VEVENT
BEGIN:VEVENT
DTSTART;TZID=Europe/Berlin:20260221T193000
DTEND;TZID=Europe/Berlin:20260221T233000
DTSTAMP:20260422T001146
CREATED:20260203T182040Z
LAST-MODIFIED:20260203T182040Z
UID:10000221-1771702200-1771716600@haunsheim.de
SUMMARY:Generalversammlung Schützenverein Unterbechingen
DESCRIPTION:Unsere ordentliche Mitgliederversammlung findet am Samstag\, 21. Februar 2026 um 19.30 Uhr im Schützenheim statt. Alle Mitglieder\, Freunde und Gönner des Vereines sind recht herzlich eingeladen. \nTagesordnung:\n1. Begrüßung und Totengedenken\n2. Entgegennahme der Berichte\na) des 1. Schützenmeisters über das abgelaufene Geschäftsjahr\nb) des Kassierers über die Jahresrechnung\nc) der Rechnungsprüfer\nd) des Sportwartes\ne) des Jugendleiters\n3. Entlastung des Schützenmeisteramtes\n4. Neuwahlen\n5. Ehrungen\n6. Verschiedenes \nAnträge zu Punkt 6 der Tagesordnung\, die eine Änderung der Satzung bewirken würden\, müssen schriftlich bis spätestens Samstag\, den 14. Februar\, beim 1. Vorstand Stefan Urban eingereicht werden.
URL:https://haunsheim.de/termin/generalversammlung-schuetzenverein-unterbechingen-4/
LOCATION:Schützenheim – Unterbechingen\, Sachsenhauser Straße 3\, Haunsheim-Unterbechingen\, Bayern\, 89437\, Deutschland
CATEGORIES:Sitzung
ORGANIZER;CN="Sch%C3%BCtzenverein Unterbechingen":MAILTO:dptauscher@t-online.de
END:VEVENT
BEGIN:VEVENT
DTSTART;VALUE=DATE:20260207
DTEND;VALUE=DATE:20260208
DTSTAMP:20260422T001146
CREATED:20260203T181909Z
LAST-MODIFIED:20260203T182211Z
UID:10000220-1770422400-1770508799@haunsheim.de
SUMMARY:Faschingsball Unterbechingen
DESCRIPTION:Am Samstag\, 07. Februar\, findet unser traditioneller Faschingsball statt. Beginn ist um 20.00 Uhr mit DJ FABEATS\, sowie Auftritte der Faschingsfreunde Mödingen und dem Männerballett Unterbechingen. Alle Faschingsbegeisterte sind herzlich eingeladen\, der Eintritt beträgt 5\,00 EUR. \n 
URL:https://haunsheim.de/termin/faschingsball-unterbechingen-2/
LOCATION:Schützenheim – Unterbechingen\, Sachsenhauser Straße 3\, Haunsheim-Unterbechingen\, Bayern\, 89437\, Deutschland
CATEGORIES:Feste,Freizeitaktivität
ORGANIZER;CN="Sch%C3%BCtzenverein Unterbechingen":MAILTO:dptauscher@t-online.de
END:VEVENT
BEGIN:VEVENT
DTSTART;VALUE=DATE:20250427
DTEND;VALUE=DATE:20250428
DTSTAMP:20260422T001146
CREATED:20250225T175159Z
LAST-MODIFIED:20250225T175159Z
UID:10000176-1745712000-1745798399@haunsheim.de
SUMMARY:Georgs-Fest Pfarrgemeinde St. Georg
DESCRIPTION:Festgottesdienst Beginn 10.00 Uhr
URL:https://haunsheim.de/termin/georgs-fest-pfarrgemeinde-st-georg/
LOCATION:Schützenheim – Unterbechingen\, Sachsenhauser Straße 3\, Haunsheim-Unterbechingen\, Bayern\, 89437\, Deutschland
CATEGORIES:Feste
END:VEVENT
BEGIN:VEVENT
DTSTART;TZID=Europe/Berlin:20250416T193000
DTEND;TZID=Europe/Berlin:20250416T230000
DTSTAMP:20260422T001146
CREATED:20250225T174700Z
LAST-MODIFIED:20250225T174700Z
UID:10000173-1744831800-1744844400@haunsheim.de
SUMMARY:Waldversammlung Plattenhau und Pfannental
DESCRIPTION:Mitgliederversammlung der Waldversammlung Plattenhau und Pfannental\, Beginn 19.30
URL:https://haunsheim.de/termin/waldversammlung-plattenhau-und-pfannental/
LOCATION:Schützenheim – Unterbechingen\, Sachsenhauser Straße 3\, Haunsheim-Unterbechingen\, Bayern\, 89437\, Deutschland
CATEGORIES:Sitzung
END:VEVENT
BEGIN:VEVENT
DTSTART;VALUE=DATE:20250308
DTEND;VALUE=DATE:20250309
DTSTAMP:20260422T001146
CREATED:20241203T184753Z
LAST-MODIFIED:20241203T184753Z
UID:10000160-1741392000-1741478399@haunsheim.de
SUMMARY:Generalversammlung Schützenverein Unterbechingen
DESCRIPTION:Der Schützenverein Unterbechingen lädt herzlich zu seiner alljährlichen Generalversammlung ein. Man trifft sich im Schützenheim (Sachsenhauser Straße) in Unterbechingen.
URL:https://haunsheim.de/termin/generalversammlung-schuetzenverein-unterbechingen-3/
LOCATION:Schützenheim – Unterbechingen\, Sachsenhauser Straße 3\, Haunsheim-Unterbechingen\, Bayern\, 89437\, Deutschland
CATEGORIES:Sitzung
ORGANIZER;CN="Sch%C3%BCtzenverein Unterbechingen":MAILTO:dptauscher@t-online.de
END:VEVENT
BEGIN:VEVENT
DTSTART;VALUE=DATE:20250301
DTEND;VALUE=DATE:20250302
DTSTAMP:20260422T001146
CREATED:20241203T184628Z
LAST-MODIFIED:20241203T184628Z
UID:10000159-1740787200-1740873599@haunsheim.de
SUMMARY:Faschingsball Schützenverein Unterbechingen
DESCRIPTION:
URL:https://haunsheim.de/termin/faschingsball-schuetzenverein-unterbechingen-2/
LOCATION:Schützenheim – Unterbechingen\, Sachsenhauser Straße 3\, Haunsheim-Unterbechingen\, Bayern\, 89437\, Deutschland
CATEGORIES:Feste,Freizeitaktivität
ORGANIZER;CN="Sch%C3%BCtzenverein Unterbechingen":MAILTO:dptauscher@t-online.de
END:VEVENT
BEGIN:VEVENT
DTSTART;VALUE=DATE:20250222
DTEND;VALUE=DATE:20250223
DTSTAMP:20260422T001146
CREATED:20241203T184445Z
LAST-MODIFIED:20241203T184524Z
UID:10000158-1740182400-1740268799@haunsheim.de
SUMMARY:Kinderfaschingsball Schützenverein Unterbechingen
DESCRIPTION:Der Schützenverein Unterbechingen lädt alle Cowboys\, Piraten\, Prinzessinnen und andere Maskeraden zu einem vergnüglichen Kinderfaschingsball ein.
URL:https://haunsheim.de/termin/kinderfaschingsball-schuetzenverein-unterbechingen/
LOCATION:Schützenheim – Unterbechingen\, Sachsenhauser Straße 3\, Haunsheim-Unterbechingen\, Bayern\, 89437\, Deutschland
CATEGORIES:Feste,Freizeitaktivität
ORGANIZER;CN="Sch%C3%BCtzenverein Unterbechingen":MAILTO:dptauscher@t-online.de
END:VEVENT
BEGIN:VEVENT
DTSTART;VALUE=DATE:20250208
DTEND;VALUE=DATE:20250209
DTSTAMP:20260422T001146
CREATED:20241203T184019Z
LAST-MODIFIED:20241203T184019Z
UID:10000156-1738972800-1739059199@haunsheim.de
SUMMARY:Kesselfleischessen Schützenverein Unterbechingen
DESCRIPTION:Im Schützenheim in Unterbechingen (Sachsenhauser Straße) trifft man sich zum geselligen Kesselfleischessen. Es lädt der Schützenverein Unterbechingen ein.
URL:https://haunsheim.de/termin/kesselfleischessen-schuetzenverein-unterbechingen/
LOCATION:Schützenheim – Unterbechingen\, Sachsenhauser Straße 3\, Haunsheim-Unterbechingen\, Bayern\, 89437\, Deutschland
CATEGORIES:Feste,Freizeitaktivität
ORGANIZER;CN="Sch%C3%BCtzenverein Unterbechingen":MAILTO:dptauscher@t-online.de
END:VEVENT
BEGIN:VEVENT
DTSTART;TZID=Europe/Berlin:20250125T193000
DTEND;TZID=Europe/Berlin:20250125T233000
DTSTAMP:20260422T001146
CREATED:20241128T101745Z
LAST-MODIFIED:20241128T101745Z
UID:10000154-1737833400-1737847800@haunsheim.de
SUMMARY:Jagdversammlung Unterbechingen
DESCRIPTION:Herzlich wird in das Schützenheim Unterbechingen (Sachsenhauser Straße) ab 19.30 Uhr eingeladen
URL:https://haunsheim.de/termin/jagdversammlung-unterbechingen-2/
LOCATION:Schützenheim – Unterbechingen\, Sachsenhauser Straße 3\, Haunsheim-Unterbechingen\, Bayern\, 89437\, Deutschland
CATEGORIES:Sitzung
END:VEVENT
BEGIN:VEVENT
DTSTART;VALUE=DATE:20250105
DTEND;VALUE=DATE:20250106
DTSTAMP:20260422T001146
CREATED:20241128T101327Z
LAST-MODIFIED:20241128T101327Z
UID:10000152-1736035200-1736121599@haunsheim.de
SUMMARY:Brotzeitschießen Schützenverein Unterbechingen
DESCRIPTION:
URL:https://haunsheim.de/termin/brotzeitschiessen-schuetzenverein-unterbechingen/
LOCATION:Schützenheim – Unterbechingen\, Sachsenhauser Straße 3\, Haunsheim-Unterbechingen\, Bayern\, 89437\, Deutschland
CATEGORIES:Feste,Freizeitaktivität,Turnier
ORGANIZER;CN="Sch%C3%BCtzenverein Unterbechingen":MAILTO:dptauscher@t-online.de
END:VEVENT
BEGIN:VEVENT
DTSTART;VALUE=DATE:20241221
DTEND;VALUE=DATE:20241222
DTSTAMP:20260422T001146
CREATED:20231116T220559Z
LAST-MODIFIED:20231116T220559Z
UID:10000100-1734739200-1734825599@haunsheim.de
SUMMARY:Weihnachtsfeier | Königsproklamation
DESCRIPTION:
URL:https://haunsheim.de/termin/weihnachtsfeier-koenigsproklamation-2/
LOCATION:Schützenheim – Unterbechingen\, Sachsenhauser Straße 3\, Haunsheim-Unterbechingen\, Bayern\, 89437\, Deutschland
CATEGORIES:Feste
ORGANIZER;CN="Sch%C3%BCtzenverein Unterbechingen":MAILTO:dptauscher@t-online.de
END:VEVENT
BEGIN:VEVENT
DTSTART;VALUE=DATE:20241116
DTEND;VALUE=DATE:20241117
DTSTAMP:20260422T001146
CREATED:20231116T215053Z
LAST-MODIFIED:20231116T215053Z
UID:10000092-1731715200-1731801599@haunsheim.de
SUMMARY:Kesselfleischessen
DESCRIPTION:
URL:https://haunsheim.de/termin/kesselfleischessen-2/
LOCATION:Schützenheim – Unterbechingen\, Sachsenhauser Straße 3\, Haunsheim-Unterbechingen\, Bayern\, 89437\, Deutschland
CATEGORIES:Feste,Märkte
ORGANIZER;CN="Sch%C3%BCtzenverein Unterbechingen":MAILTO:dptauscher@t-online.de
END:VEVENT
BEGIN:VEVENT
DTSTART;VALUE=DATE:20240901
DTEND;VALUE=DATE:20240902
DTSTAMP:20260422T001146
CREATED:20231116T212711Z
LAST-MODIFIED:20231116T212711Z
UID:10000078-1725148800-1725235199@haunsheim.de
SUMMARY:Weiswurstfrühschoppen  - SV Unterbechingen
DESCRIPTION:
URL:https://haunsheim.de/termin/weiswurstfruehschoppen-sv-unterbechingen/
LOCATION:Schützenheim – Unterbechingen\, Sachsenhauser Straße 3\, Haunsheim-Unterbechingen\, Bayern\, 89437\, Deutschland
CATEGORIES:Feste,Freizeitaktivität
ORGANIZER;CN="Sch%C3%BCtzenverein Unterbechingen":MAILTO:dptauscher@t-online.de
END:VEVENT
BEGIN:VEVENT
DTSTART;TZID=Europe/Berlin:20240720T080000
DTEND;TZID=Europe/Berlin:20240720T170000
DTSTAMP:20260422T001146
CREATED:20231116T211747Z
LAST-MODIFIED:20231116T211747Z
UID:10000074-1721462400-1721494800@haunsheim.de
SUMMARY:Lampionfest - Schützenverein Unterbechingen
DESCRIPTION:Ort: Schützenheim Unterbechingen und Mehrgenerationenplatz
URL:https://haunsheim.de/termin/lampionfest-schuetzenverein-unterbechingen/
LOCATION:Schützenheim – Unterbechingen\, Sachsenhauser Straße 3\, Haunsheim-Unterbechingen\, Bayern\, 89437\, Deutschland
CATEGORIES:Feste,Freizeitaktivität
END:VEVENT
BEGIN:VEVENT
DTSTART;TZID=Europe/Berlin:20240421T093000
DTEND;TZID=Europe/Berlin:20240421T163000
DTSTAMP:20260422T001146
CREATED:20231116T203953Z
LAST-MODIFIED:20231116T203953Z
UID:10000056-1713691800-1713717000@haunsheim.de
SUMMARY:Georgi-Fest - Pfarrgemeinde St. Georg
DESCRIPTION:
URL:https://haunsheim.de/termin/georgi-fest-pfarrgemeinde-st-georg/
LOCATION:Schützenheim – Unterbechingen\, Sachsenhauser Straße 3\, Haunsheim-Unterbechingen\, Bayern\, 89437\, Deutschland
CATEGORIES:Feste,Religion
END:VEVENT
BEGIN:VEVENT
DTSTART;TZID=Europe/Berlin:20240324T133000
DTEND;TZID=Europe/Berlin:20240324T153000
DTSTAMP:20260422T001146
CREATED:20231116T195838Z
LAST-MODIFIED:20231116T195838Z
UID:10000040-1711287000-1711294200@haunsheim.de
SUMMARY:Jahreshauptversammlung Heimatverein Unterbechingen
DESCRIPTION:
URL:https://haunsheim.de/termin/jahreshauptversammlung-heimatverein-unterbechingen/
LOCATION:Schützenheim – Unterbechingen\, Sachsenhauser Straße 3\, Haunsheim-Unterbechingen\, Bayern\, 89437\, Deutschland
CATEGORIES:Sitzung
ORGANIZER;CN="Heimatverein Unterbechingen":MAILTO:k_hille@freenet.de
END:VEVENT
BEGIN:VEVENT
DTSTART;VALUE=DATE:20240301
DTEND;VALUE=DATE:20240302
DTSTAMP:20260422T001146
CREATED:20231116T194843Z
LAST-MODIFIED:20231116T195009Z
UID:10000035-1709251200-1709337599@haunsheim.de
SUMMARY:Generalversammlung Obst- und Gartenbauverein Unterbechingen
DESCRIPTION:
URL:https://haunsheim.de/termin/generalversammlung-obst-und-gartenbauverein-unterbechingen/
LOCATION:Schützenheim – Unterbechingen\, Sachsenhauser Straße 3\, Haunsheim-Unterbechingen\, Bayern\, 89437\, Deutschland
CATEGORIES:Sitzung
ORGANIZER;CN="Obst- und Gartenbauverein Unterbechingen":MAILTO:ajschaeffler@netcom-mail.de
END:VEVENT
BEGIN:VEVENT
DTSTART;VALUE=DATE:20240217
DTEND;VALUE=DATE:20240218
DTSTAMP:20260422T001146
CREATED:20240203T155316Z
LAST-MODIFIED:20240203T155316Z
UID:10000111-1708128000-1708214399@haunsheim.de
SUMMARY:Generalversammlung Schützenverein Unterbechingen
DESCRIPTION:
URL:https://haunsheim.de/termin/generalversammlung-schuetzenverein-unterbechingen-2/
LOCATION:Schützenheim – Unterbechingen\, Sachsenhauser Straße 3\, Haunsheim-Unterbechingen\, Bayern\, 89437\, Deutschland
CATEGORIES:Sitzung
END:VEVENT
BEGIN:VEVENT
DTSTART;VALUE=DATE:20240217
DTEND;VALUE=DATE:20240218
DTSTAMP:20260422T001146
CREATED:20231116T192442Z
LAST-MODIFIED:20231116T192442Z
UID:10000032-1708128000-1708214399@haunsheim.de
SUMMARY:Generalversammlung Schützenverein Unterbechingen
DESCRIPTION:
URL:https://haunsheim.de/termin/generalversammlung-schuetzenverein-unterbechingen/
LOCATION:Schützenheim – Unterbechingen\, Sachsenhauser Straße 3\, Haunsheim-Unterbechingen\, Bayern\, 89437\, Deutschland
CATEGORIES:Sitzung
ORGANIZER;CN="Sch%C3%BCtzenverein Unterbechingen":MAILTO:dptauscher@t-online.de
END:VEVENT
BEGIN:VEVENT
DTSTART;VALUE=DATE:20240217
DTEND;VALUE=DATE:20240218
DTSTAMP:20260422T001146
CREATED:20230217T184613Z
LAST-MODIFIED:20231116T192003Z
UID:10000021-1708128000-1708214399@haunsheim.de
SUMMARY:Kesselfleischessen
DESCRIPTION:
URL:https://haunsheim.de/termin/kesselfleischessen/
LOCATION:Schützenheim – Unterbechingen\, Sachsenhauser Straße 3\, Haunsheim-Unterbechingen\, Bayern\, 89437\, Deutschland
CATEGORIES:Feste,Märkte
ORGANIZER;CN="Sch%C3%BCtzenverein Unterbechingen":MAILTO:dptauscher@t-online.de
END:VEVENT
BEGIN:VEVENT
DTSTART;VALUE=DATE:20240210
DTEND;VALUE=DATE:20240211
DTSTAMP:20260422T001146
CREATED:20240203T154915Z
LAST-MODIFIED:20240203T154915Z
UID:10000110-1707523200-1707609599@haunsheim.de
SUMMARY:Faschingsball Schützenverein Unterbechingen
DESCRIPTION:
URL:https://haunsheim.de/termin/faschingsball-schuetzenverein-unterbechingen/
LOCATION:Schützenheim – Unterbechingen\, Sachsenhauser Straße 3\, Haunsheim-Unterbechingen\, Bayern\, 89437\, Deutschland
END:VEVENT
BEGIN:VEVENT
DTSTART;VALUE=DATE:20240210
DTEND;VALUE=DATE:20240211
DTSTAMP:20260422T001146
CREATED:20231116T192310Z
LAST-MODIFIED:20231116T192310Z
UID:10000031-1707523200-1707609599@haunsheim.de
SUMMARY:Faschingsball Unterbechingen
DESCRIPTION:
URL:https://haunsheim.de/termin/faschingsball-unterbechingen/
LOCATION:Schützenheim – Unterbechingen\, Sachsenhauser Straße 3\, Haunsheim-Unterbechingen\, Bayern\, 89437\, Deutschland
CATEGORIES:Feste,Freizeitaktivität
ORGANIZER;CN="Sch%C3%BCtzenverein Unterbechingen":MAILTO:dptauscher@t-online.de
END:VEVENT
BEGIN:VEVENT
DTSTART;VALUE=DATE:20240203
DTEND;VALUE=DATE:20240204
DTSTAMP:20260422T001146
CREATED:20231116T192200Z
LAST-MODIFIED:20231116T192200Z
UID:10000030-1706918400-1707004799@haunsheim.de
SUMMARY:Kinderfaschingsball
DESCRIPTION:
URL:https://haunsheim.de/termin/kinderfaschingsball/
LOCATION:Schützenheim – Unterbechingen\, Sachsenhauser Straße 3\, Haunsheim-Unterbechingen\, Bayern\, 89437\, Deutschland
CATEGORIES:Feste,Freizeitaktivität
ORGANIZER;CN="Sch%C3%BCtzenverein Unterbechingen":MAILTO:dptauscher@t-online.de
END:VEVENT
BEGIN:VEVENT
DTSTART;VALUE=DATE:20240105
DTEND;VALUE=DATE:20240106
DTSTAMP:20260422T001146
CREATED:20231116T183420Z
LAST-MODIFIED:20231116T184250Z
UID:10000019-1704412800-1704499199@haunsheim.de
SUMMARY:Brotzeitschießen
DESCRIPTION:
URL:https://haunsheim.de/termin/brotzeitschiessen/
LOCATION:Schützenheim – Unterbechingen\, Sachsenhauser Straße 3\, Haunsheim-Unterbechingen\, Bayern\, 89437\, Deutschland
CATEGORIES:Feste,Turnier
ORGANIZER;CN="Sch%C3%BCtzenverein Unterbechingen":MAILTO:dptauscher@t-online.de
END:VEVENT
BEGIN:VEVENT
DTSTART;VALUE=DATE:20231216
DTEND;VALUE=DATE:20231217
DTSTAMP:20260422T001146
CREATED:20231116T173101Z
LAST-MODIFIED:20231116T185616Z
UID:10000016-1702684800-1702771199@haunsheim.de
SUMMARY:Weihnachtsfeier | Königsproklamation
DESCRIPTION:
URL:https://haunsheim.de/termin/weihnachtsfeier-koenigsproklamation/
LOCATION:Schützenheim – Unterbechingen\, Sachsenhauser Straße 3\, Haunsheim-Unterbechingen\, Bayern\, 89437\, Deutschland
CATEGORIES:Feste
ORGANIZER;CN="Sch%C3%BCtzenverein Unterbechingen":MAILTO:dptauscher@t-online.de
END:VEVENT
END:VCALENDAR