BEGIN:VCALENDAR
VERSION:2.0
PRODID:-//Gemeinde Haunsheim - ECPv6.15.20//NONSGML v1.0//EN
CALSCALE:GREGORIAN
METHOD:PUBLISH
X-ORIGINAL-URL:https://haunsheim.de
X-WR-CALDESC:Veranstaltungen für Gemeinde Haunsheim
REFRESH-INTERVAL;VALUE=DURATION:PT1H
X-Robots-Tag:noindex
X-PUBLISHED-TTL:PT1H
BEGIN:VTIMEZONE
TZID:Europe/Berlin
BEGIN:DAYLIGHT
TZOFFSETFROM:+0100
TZOFFSETTO:+0200
TZNAME:CEST
DTSTART:20220327T010000
END:DAYLIGHT
BEGIN:STANDARD
TZOFFSETFROM:+0200
TZOFFSETTO:+0100
TZNAME:CET
DTSTART:20221030T010000
END:STANDARD
BEGIN:DAYLIGHT
TZOFFSETFROM:+0100
TZOFFSETTO:+0200
TZNAME:CEST
DTSTART:20230326T010000
END:DAYLIGHT
BEGIN:STANDARD
TZOFFSETFROM:+0200
TZOFFSETTO:+0100
TZNAME:CET
DTSTART:20231029T010000
END:STANDARD
BEGIN:DAYLIGHT
TZOFFSETFROM:+0100
TZOFFSETTO:+0200
TZNAME:CEST
DTSTART:20240331T010000
END:DAYLIGHT
BEGIN:STANDARD
TZOFFSETFROM:+0200
TZOFFSETTO:+0100
TZNAME:CET
DTSTART:20241027T010000
END:STANDARD
BEGIN:DAYLIGHT
TZOFFSETFROM:+0100
TZOFFSETTO:+0200
TZNAME:CEST
DTSTART:20250330T010000
END:DAYLIGHT
BEGIN:STANDARD
TZOFFSETFROM:+0200
TZOFFSETTO:+0100
TZNAME:CET
DTSTART:20251026T010000
END:STANDARD
BEGIN:DAYLIGHT
TZOFFSETFROM:+0100
TZOFFSETTO:+0200
TZNAME:CEST
DTSTART:20260329T010000
END:DAYLIGHT
BEGIN:STANDARD
TZOFFSETFROM:+0200
TZOFFSETTO:+0100
TZNAME:CET
DTSTART:20261025T010000
END:STANDARD
BEGIN:DAYLIGHT
TZOFFSETFROM:+0100
TZOFFSETTO:+0200
TZNAME:CEST
DTSTART:20270328T010000
END:DAYLIGHT
BEGIN:STANDARD
TZOFFSETFROM:+0200
TZOFFSETTO:+0100
TZNAME:CET
DTSTART:20271031T010000
END:STANDARD
END:VTIMEZONE
BEGIN:VEVENT
DTSTART;TZID=Europe/Berlin:20260419T100000
DTEND;TZID=Europe/Berlin:20260419T120000
DTSTAMP:20260422T014221
CREATED:20260224T184641Z
LAST-MODIFIED:20260224T184641Z
UID:10000241-1776592800-1776600000@haunsheim.de
SUMMARY:Konfirmation Evangelisches Gemeindehaus Bachhagel
DESCRIPTION:
URL:https://haunsheim.de/termin/konfirmation-evangelisches-gemeindehaus-bachhagel/
LOCATION:Gemeindehaus Bachhagel\, Bayern\, Deutschland
CATEGORIES:Feste,Religion
ORGANIZER;CN="Evang.-Luth. Kirchengemeinde":MAILTO:pfarramt.haunsheim-bachtal@elkb.de
END:VEVENT
BEGIN:VEVENT
DTSTART;TZID=Europe/Berlin:20250504T100000
DTEND;TZID=Europe/Berlin:20250504T120000
DTSTAMP:20260422T014221
CREATED:20250225T182638Z
LAST-MODIFIED:20250225T182638Z
UID:10000189-1746352800-1746360000@haunsheim.de
SUMMARY:Konfirmation Ev. Gemeinde Bachhagel
DESCRIPTION:
URL:https://haunsheim.de/termin/konfirmation-ev-gemeinde-bachhagel/
LOCATION:Gemeindehaus Bachhagel\, Bayern\, Deutschland
CATEGORIES:Feste
ORGANIZER;CN="Evang.-Luth. Kirchengemeinde":MAILTO:pfarramt.haunsheim-bachtal@elkb.de
END:VEVENT
BEGIN:VEVENT
DTSTART;TZID=Europe/Berlin:20240414T100000
DTEND;TZID=Europe/Berlin:20240414T110000
DTSTAMP:20260422T014221
CREATED:20231116T203418Z
LAST-MODIFIED:20231116T203418Z
UID:10000054-1713088800-1713092400@haunsheim.de
SUMMARY:Konfirmation
DESCRIPTION:
URL:https://haunsheim.de/termin/konfirmation-2/
LOCATION:Gemeindehaus Bachhagel\, Bayern\, Deutschland
CATEGORIES:Religion
ORGANIZER;CN="Evang.-Luth. Kirchengemeinde":MAILTO:pfarramt.haunsheim-bachtal@elkb.de
END:VEVENT
BEGIN:VEVENT
DTSTART;VALUE=DATE:20231101
DTEND;VALUE=DATE:20231102
DTSTAMP:20260422T014221
CREATED:20231116T211603Z
LAST-MODIFIED:20231116T211603Z
UID:10000073-1698796800-1698883199@haunsheim.de
SUMMARY:Gemeindefest Kirchengemeinde Haunsheim/Bachtal
DESCRIPTION:
URL:https://haunsheim.de/termin/gemeindefest-kirchengemeinde-haunsheim-bachtal/
LOCATION:Gemeindehaus Bachhagel\, Bayern\, Deutschland
CATEGORIES:Feste,Religion
ORGANIZER;CN="Evang.-Luth. Kirchengemeinde":MAILTO:pfarramt.haunsheim-bachtal@elkb.de
END:VEVENT
END:VCALENDAR