BEGIN:VCALENDAR
VERSION:2.0
PRODID:-//Gemeinde Haunsheim - ECPv6.15.20//NONSGML v1.0//EN
CALSCALE:GREGORIAN
METHOD:PUBLISH
X-ORIGINAL-URL:https://haunsheim.de
X-WR-CALDESC:Veranstaltungen für Gemeinde Haunsheim
REFRESH-INTERVAL;VALUE=DURATION:PT1H
X-Robots-Tag:noindex
X-PUBLISHED-TTL:PT1H
BEGIN:VTIMEZONE
TZID:Europe/Berlin
BEGIN:DAYLIGHT
TZOFFSETFROM:+0100
TZOFFSETTO:+0200
TZNAME:CEST
DTSTART:20250330T010000
END:DAYLIGHT
BEGIN:STANDARD
TZOFFSETFROM:+0200
TZOFFSETTO:+0100
TZNAME:CET
DTSTART:20251026T010000
END:STANDARD
BEGIN:DAYLIGHT
TZOFFSETFROM:+0100
TZOFFSETTO:+0200
TZNAME:CEST
DTSTART:20260329T010000
END:DAYLIGHT
BEGIN:STANDARD
TZOFFSETFROM:+0200
TZOFFSETTO:+0100
TZNAME:CET
DTSTART:20261025T010000
END:STANDARD
BEGIN:DAYLIGHT
TZOFFSETFROM:+0100
TZOFFSETTO:+0200
TZNAME:CEST
DTSTART:20270328T010000
END:DAYLIGHT
BEGIN:STANDARD
TZOFFSETFROM:+0200
TZOFFSETTO:+0100
TZNAME:CET
DTSTART:20271031T010000
END:STANDARD
END:VTIMEZONE
BEGIN:VEVENT
DTSTART;VALUE=DATE:20260822
DTEND;VALUE=DATE:20260823
DTSTAMP:20260421T223622
CREATED:20260310T184404Z
LAST-MODIFIED:20260310T184404Z
UID:10000261-1787356800-1787443199@haunsheim.de
SUMMARY:Kinderferientag der FFW Haunsheim
DESCRIPTION:
URL:https://haunsheim.de/termin/kinderferientag-der-ffw-haunsheim-2/
LOCATION:Feuerwehrgerätehaus\, Bayern\, Deutschland
CATEGORIES:Freizeitaktivität
ORGANIZER;CN="Freiwillige Feuerwehr Haunsheim":MAILTO:michael.wydra@gmx.net
END:VEVENT
END:VCALENDAR