BEGIN:VCALENDAR
VERSION:2.0
PRODID:-//Gemeinde Haunsheim - ECPv6.15.20//NONSGML v1.0//EN
CALSCALE:GREGORIAN
METHOD:PUBLISH
X-WR-CALNAME:Gemeinde Haunsheim
X-ORIGINAL-URL:https://haunsheim.de
X-WR-CALDESC:Veranstaltungen für Gemeinde Haunsheim
REFRESH-INTERVAL;VALUE=DURATION:PT1H
X-Robots-Tag:noindex
X-PUBLISHED-TTL:PT1H
BEGIN:VTIMEZONE
TZID:Europe/Berlin
BEGIN:DAYLIGHT
TZOFFSETFROM:+0100
TZOFFSETTO:+0200
TZNAME:CEST
DTSTART:20230326T010000
END:DAYLIGHT
BEGIN:STANDARD
TZOFFSETFROM:+0200
TZOFFSETTO:+0100
TZNAME:CET
DTSTART:20231029T010000
END:STANDARD
BEGIN:DAYLIGHT
TZOFFSETFROM:+0100
TZOFFSETTO:+0200
TZNAME:CEST
DTSTART:20240331T010000
END:DAYLIGHT
BEGIN:STANDARD
TZOFFSETFROM:+0200
TZOFFSETTO:+0100
TZNAME:CET
DTSTART:20241027T010000
END:STANDARD
BEGIN:DAYLIGHT
TZOFFSETFROM:+0100
TZOFFSETTO:+0200
TZNAME:CEST
DTSTART:20250330T010000
END:DAYLIGHT
BEGIN:STANDARD
TZOFFSETFROM:+0200
TZOFFSETTO:+0100
TZNAME:CET
DTSTART:20251026T010000
END:STANDARD
BEGIN:DAYLIGHT
TZOFFSETFROM:+0100
TZOFFSETTO:+0200
TZNAME:CEST
DTSTART:20260329T010000
END:DAYLIGHT
BEGIN:STANDARD
TZOFFSETFROM:+0200
TZOFFSETTO:+0100
TZNAME:CET
DTSTART:20261025T010000
END:STANDARD
END:VTIMEZONE
BEGIN:VEVENT
DTSTART;VALUE=DATE:20250607
DTEND;VALUE=DATE:20250608
DTSTAMP:20260422T002714
CREATED:20250225T182952Z
LAST-MODIFIED:20250225T182952Z
UID:10000191-1749254400-1749340799@haunsheim.de
SUMMARY:Tag der offenen Türe bei der FFW Haunsheim
DESCRIPTION:Die neuen Räumlichkeiten der FFW Haunsheim können besichtigt werden.\nBauerngasse 1
URL:https://haunsheim.de/termin/tag-der-offenen-tuere-bei-der-ffw-haunsheim/
LOCATION:Feuerwehrgerätehaus\, Bayern\, Deutschland
CATEGORIES:Freizeitaktivität
ORGANIZER;CN="Freiwillige Feuerwehr Haunsheim":MAILTO:michael.wydra@gmx.net
END:VEVENT
BEGIN:VEVENT
DTSTART;VALUE=DATE:20240810
DTEND;VALUE=DATE:20240811
DTSTAMP:20260422T002714
CREATED:20231116T212436Z
LAST-MODIFIED:20231116T212550Z
UID:10000077-1723248000-1723334399@haunsheim.de
SUMMARY:Kinderferientag der FFW Haunsheim
DESCRIPTION:
URL:https://haunsheim.de/termin/kinderferientag-der-ffw-haunsheim/
LOCATION:Feuerwehrgerätehaus\, Bayern\, Deutschland
CATEGORIES:Freizeitaktivität
ORGANIZER;CN="Freiwillige Feuerwehr Haunsheim":MAILTO:michael.wydra@gmx.net
END:VEVENT
BEGIN:VEVENT
DTSTART;VALUE=DATE:20240430
DTEND;VALUE=DATE:20240501
DTSTAMP:20260422T002714
CREATED:20231116T204615Z
LAST-MODIFIED:20231116T204615Z
UID:10000059-1714435200-1714521599@haunsheim.de
SUMMARY:Maifeiern in beiden Ortsteilen Maiabend FFW Haunsheim und FFW Unterbechingen
DESCRIPTION:Jeweils um den Maibaum
URL:https://haunsheim.de/termin/maifeiern-in-beiden-ortsteilen-maiabend-ffw-haunsheim-und-ffw-unterbechingen/
LOCATION:Feuerwehrgerätehaus\, Bayern\, Deutschland
CATEGORIES:Feste
END:VEVENT
END:VCALENDAR