BEGIN:VCALENDAR
VERSION:2.0
PRODID:-//Gemeinde Haunsheim - ECPv6.15.20//NONSGML v1.0//EN
CALSCALE:GREGORIAN
METHOD:PUBLISH
X-ORIGINAL-URL:https://haunsheim.de
X-WR-CALDESC:Veranstaltungen für Gemeinde Haunsheim
REFRESH-INTERVAL;VALUE=DURATION:PT1H
X-Robots-Tag:noindex
X-PUBLISHED-TTL:PT1H
BEGIN:VTIMEZONE
TZID:Europe/Berlin
BEGIN:DAYLIGHT
TZOFFSETFROM:+0100
TZOFFSETTO:+0200
TZNAME:CEST
DTSTART:20250330T010000
END:DAYLIGHT
BEGIN:STANDARD
TZOFFSETFROM:+0200
TZOFFSETTO:+0100
TZNAME:CET
DTSTART:20251026T010000
END:STANDARD
BEGIN:DAYLIGHT
TZOFFSETFROM:+0100
TZOFFSETTO:+0200
TZNAME:CEST
DTSTART:20260329T010000
END:DAYLIGHT
BEGIN:STANDARD
TZOFFSETFROM:+0200
TZOFFSETTO:+0100
TZNAME:CET
DTSTART:20261025T010000
END:STANDARD
BEGIN:DAYLIGHT
TZOFFSETFROM:+0100
TZOFFSETTO:+0200
TZNAME:CEST
DTSTART:20270328T010000
END:DAYLIGHT
BEGIN:STANDARD
TZOFFSETFROM:+0200
TZOFFSETTO:+0100
TZNAME:CET
DTSTART:20271031T010000
END:STANDARD
BEGIN:DAYLIGHT
TZOFFSETFROM:+0100
TZOFFSETTO:+0200
TZNAME:CEST
DTSTART:20280326T010000
END:DAYLIGHT
BEGIN:STANDARD
TZOFFSETFROM:+0200
TZOFFSETTO:+0100
TZNAME:CET
DTSTART:20281029T010000
END:STANDARD
END:VTIMEZONE
BEGIN:VEVENT
DTSTART;VALUE=DATE:20260801
DTEND;VALUE=DATE:20260802
DTSTAMP:20260421T222414
CREATED:20260226T081750Z
LAST-MODIFIED:20260319T093641Z
UID:10000255-1785542400-1785628799@haunsheim.de
SUMMARY:Lampionsfest in Unterbechingen
DESCRIPTION:Zum 3. Mal schon lädt der Schützenverein Unterbechingen zu einem geselligen Abend auf den Mehrgenerationenplatz in Unterbechingen ein. \nFeiern Sie mit und verbringen einen sommerlichen\, gemütlichen Abend in einem besonderen Ambiente.
URL:https://haunsheim.de/termin/lampionsfest-in-unterbechingen/
LOCATION:Mehrgenerationenplatz Unterbechingen\, Sachsenhauser Straße 3\, Haunsheim\, Bayern\, 89437\, Deutschland
CATEGORIES:Feste,Freizeitaktivität
ORGANIZER;CN="Sch%C3%BCtzenverein Unterbechingen":MAILTO:dptauscher@t-online.de
END:VEVENT
BEGIN:VEVENT
DTSTART;VALUE=DATE:20260913
DTEND;VALUE=DATE:20260914
DTSTAMP:20260421T222414
CREATED:20260310T184645Z
LAST-MODIFIED:20260310T184645Z
UID:10000263-1789257600-1789343999@haunsheim.de
SUMMARY:Weißwurstessen Schützenverein Unterbechingen
DESCRIPTION:
URL:https://haunsheim.de/termin/weisswurstessen-schuetzenverein-unterbechingen/
LOCATION:Schützenheim – Unterbechingen\, Sachsenhauser Straße 3\, Haunsheim-Unterbechingen\, Bayern\, 89437\, Deutschland
CATEGORIES:Freizeitaktivität
ORGANIZER;CN="Sch%C3%BCtzenverein Unterbechingen":MAILTO:dptauscher@t-online.de
END:VEVENT
BEGIN:VEVENT
DTSTART;VALUE=DATE:20260918
DTEND;VALUE=DATE:20260920
DTSTAMP:20260421T222414
CREATED:20260310T184742Z
LAST-MODIFIED:20260310T184742Z
UID:10000264-1789689600-1789862399@haunsheim.de
SUMMARY:VG-Schießen Schützenverein Unterbechingen
DESCRIPTION:
URL:https://haunsheim.de/termin/vg-schiessen-schuetzenverein-unterbechingen/
LOCATION:Schützenheim – Unterbechingen\, Sachsenhauser Straße 3\, Haunsheim-Unterbechingen\, Bayern\, 89437\, Deutschland
CATEGORIES:Freizeitaktivität,Turnier
ORGANIZER;CN="Sch%C3%BCtzenverein Unterbechingen":MAILTO:dptauscher@t-online.de
END:VEVENT
BEGIN:VEVENT
DTSTART;VALUE=DATE:20261107
DTEND;VALUE=DATE:20261108
DTSTAMP:20260421T222414
CREATED:20260414T172805Z
LAST-MODIFIED:20260414T172805Z
UID:10000271-1794009600-1794095999@haunsheim.de
SUMMARY:Nussschießen Schützenverein Unterbechingen
DESCRIPTION:
URL:https://haunsheim.de/termin/nussschiessen-schuetzenverein-unterbechingen/
LOCATION:Schützenheim – Unterbechingen\, Sachsenhauser Straße 3\, Haunsheim-Unterbechingen\, Bayern\, 89437\, Deutschland
CATEGORIES:Freizeitaktivität,Turnier
ORGANIZER;CN="Sch%C3%BCtzenverein Unterbechingen":MAILTO:dptauscher@t-online.de
END:VEVENT
BEGIN:VEVENT
DTSTART;VALUE=DATE:20261114
DTEND;VALUE=DATE:20261115
DTSTAMP:20260421T222414
CREATED:20260414T173004Z
LAST-MODIFIED:20260414T173004Z
UID:10000273-1794614400-1794700799@haunsheim.de
SUMMARY:Kesselfleischessen Schützenverein Unterbechingen
DESCRIPTION:
URL:https://haunsheim.de/termin/kesselfleischessen-schuetzenverein-unterbechingen-2/
LOCATION:Schützenheim – Unterbechingen\, Sachsenhauser Straße 3\, Haunsheim-Unterbechingen\, Bayern\, 89437\, Deutschland
CATEGORIES:Freizeitaktivität
ORGANIZER;CN="Sch%C3%BCtzenverein Unterbechingen":MAILTO:dptauscher@t-online.de
END:VEVENT
BEGIN:VEVENT
DTSTART;VALUE=DATE:20261219
DTEND;VALUE=DATE:20270821
DTSTAMP:20260421T222414
CREATED:20260414T173929Z
LAST-MODIFIED:20260414T173929Z
UID:10000281-1797638400-1818806399@haunsheim.de
SUMMARY:Weihnachtsfeier Königsproklamation Schützenverein Unterbechingen
DESCRIPTION:
URL:https://haunsheim.de/termin/weihnachtsfeier-koenigsproklamation-schuetzenverein-unterbechingen/
LOCATION:Schützenheim – Unterbechingen\, Sachsenhauser Straße 3\, Haunsheim-Unterbechingen\, Bayern\, 89437\, Deutschland
CATEGORIES:Freizeitaktivität,Turnier
ORGANIZER;CN="Sch%C3%BCtzenverein Unterbechingen":MAILTO:dptauscher@t-online.de
END:VEVENT
END:VCALENDAR