BEGIN:VCALENDAR
VERSION:2.0
PRODID:-//Gemeinde Haunsheim - ECPv6.15.20//NONSGML v1.0//EN
CALSCALE:GREGORIAN
METHOD:PUBLISH
X-WR-CALNAME:Gemeinde Haunsheim
X-ORIGINAL-URL:https://haunsheim.de
X-WR-CALDESC:Veranstaltungen für Gemeinde Haunsheim
REFRESH-INTERVAL;VALUE=DURATION:PT1H
X-Robots-Tag:noindex
X-PUBLISHED-TTL:PT1H
BEGIN:VTIMEZONE
TZID:Europe/Berlin
BEGIN:DAYLIGHT
TZOFFSETFROM:+0100
TZOFFSETTO:+0200
TZNAME:CEST
DTSTART:20250330T010000
END:DAYLIGHT
BEGIN:STANDARD
TZOFFSETFROM:+0200
TZOFFSETTO:+0100
TZNAME:CET
DTSTART:20251026T010000
END:STANDARD
BEGIN:DAYLIGHT
TZOFFSETFROM:+0100
TZOFFSETTO:+0200
TZNAME:CEST
DTSTART:20260329T010000
END:DAYLIGHT
BEGIN:STANDARD
TZOFFSETFROM:+0200
TZOFFSETTO:+0100
TZNAME:CET
DTSTART:20261025T010000
END:STANDARD
BEGIN:DAYLIGHT
TZOFFSETFROM:+0100
TZOFFSETTO:+0200
TZNAME:CEST
DTSTART:20270328T010000
END:DAYLIGHT
BEGIN:STANDARD
TZOFFSETFROM:+0200
TZOFFSETTO:+0100
TZNAME:CET
DTSTART:20271031T010000
END:STANDARD
END:VTIMEZONE
BEGIN:VEVENT
DTSTART;VALUE=DATE:20260523
DTEND;VALUE=DATE:20260524
DTSTAMP:20260421T223129
CREATED:20260226T080304Z
LAST-MODIFIED:20260226T080304Z
UID:10000250-1779494400-1779580799@haunsheim.de
SUMMARY:Serenade Musikverein Haunsheim & Liedertafel Haunsheim
DESCRIPTION:Freuen Sie sich auf einen musikalischen Ohrenschmaus mit unserer Musikkapelle und unserer Liedertafel Haunsheim
URL:https://haunsheim.de/termin/serenade-musikverein-haunsheim-liedertafel-haunsheim/
LOCATION:Kornstadl Haunsheim\, Hauptstraße 29\, Haunsheim\, 89437
CATEGORIES:Freizeitaktivität,Konzerte
END:VEVENT
BEGIN:VEVENT
DTSTART;VALUE=DATE:20260724
DTEND;VALUE=DATE:20260725
DTSTAMP:20260421T223129
CREATED:20260226T082632Z
LAST-MODIFIED:20260226T082701Z
UID:10000257-1784851200-1784937599@haunsheim.de
SUMMARY:Festwoche der FFW Haunsheim & des Musikvereins Haunsheim
DESCRIPTION:Ein rundes Jubiläum sollte mit einem großen Fest gefeiert werden. Gleich zwei Vereine laden zu einem gemeinsamen Jubiläum ein. Das 50-jährige Gründungsjubiläum des Musikvereins Haunsheim sowie das 150-jährige Gründungsjubiläum der Freiwilligen Feuerwehr Haunsheim geben hierzu Anlass. \n„Sommer of 69“ \nRock-Party im Kornstadel in Haunsheim \nEintritt 9\,00 €\nLive on Stage: Musikverein Haunsheim
URL:https://haunsheim.de/termin/festwoche-der-ffw-haunsheim-des-musikvereins-haunsheim/
LOCATION:Kornstadl Haunsheim\, Hauptstraße 29\, Haunsheim\, 89437
CATEGORIES:Freizeitaktivität,Konzerte
END:VEVENT
BEGIN:VEVENT
DTSTART;TZID=Europe/Berlin:20260725T200000
DTEND;TZID=Europe/Berlin:20260725T230000
DTSTAMP:20260421T223129
CREATED:20260226T083447Z
LAST-MODIFIED:20260226T083447Z
UID:10000258-1785009600-1785020400@haunsheim.de
SUMMARY:Wolfgang Krebs "Bayern liebt DICH"
DESCRIPTION:Anlässlich des „200-Jubiläums“ der FFW Haunsheim und des Musikvereins Haunsheim konnte Wolfgang Krebs mit seinem aktuellen Programm „Bayern liebt DICH“ gewonnen werden.\nKarten gibt es unter\n09072/ 9220175 \n09072/ 95 39 48 und an der Abendkasse \nEinlas: 19.00 Uhr\, Beginn: 20.00 Uhr \nBayern liebt Dich! ist ein aktuelles bayerische Kabarettsolo mit Botschaften und Botschaftern rund um den Medienzirkus von und mit Wolfgang Krebs\, der wie immer ganz alleine auf der Bühne steht\, und war in ganz vielen verschiedenen Rollen.
URL:https://haunsheim.de/termin/wolfgang-krebs-bayern-liebt-dich/
LOCATION:Kornstadl Haunsheim\, Hauptstraße 29\, Haunsheim\, 89437
CATEGORIES:Freizeitaktivität
END:VEVENT
BEGIN:VEVENT
DTSTART;TZID=Europe/Berlin:20260726T090000
DTEND;TZID=Europe/Berlin:20260726T223000
DTSTAMP:20260421T223129
CREATED:20260226T084446Z
LAST-MODIFIED:20260226T085017Z
UID:10000259-1785056400-1785105000@haunsheim.de
SUMMARY:Festsonntag anlässlich des 50-jährigen Jubiläums des Musikvereins und 150-jährigen Jubiläums der FFW Haunsheim
DESCRIPTION:09.00 Uhr Festgottesdienst im Kornstadel in Haunsheim \n10.00 Uhr Frühschopper mit Blasmusik \n10.30 Uhr Ansprachen und Ehrungen \n11.30 Uhr Ochs am Spieß mit Beilagen \n14.00 Uhr Umzug \n15.30 Uhr Unterhaltung mit Blasmusik \n21.30 Uhr Serenade nach Art des Großen Zapfenstreiches mit dem Spielmannszug Dillingen und dem Musikverein Haunsheim \n 
URL:https://haunsheim.de/termin/festsonntag-anlaesslich-des-50-jaehrigen-jubilaeums-des-musikvereins-und-150-jaehrigen-jubilaeums-der-ffw-haunsheim/
LOCATION:Kornstadl Haunsheim\, Hauptstraße 29\, Haunsheim\, 89437
CATEGORIES:Feste,Freizeitaktivität,Konzerte
ORGANIZER;CN="Freiwillige Feuerwehr Haunsheim":MAILTO:michael.wydra@gmx.net
END:VEVENT
BEGIN:VEVENT
DTSTART;VALUE=DATE:20260912
DTEND;VALUE=DATE:20260913
DTSTAMP:20260421T223129
CREATED:20260310T184522Z
LAST-MODIFIED:20260310T184522Z
UID:10000262-1789171200-1789257599@haunsheim.de
SUMMARY:Galaabend Musikverein Haunsheim
DESCRIPTION:
URL:https://haunsheim.de/termin/galaabend-musikverein-haunsheim/
LOCATION:Kornstadl Haunsheim\, Hauptstraße 29\, Haunsheim\, 89437
CATEGORIES:Freizeitaktivität,Konzerte
END:VEVENT
BEGIN:VEVENT
DTSTART;VALUE=DATE:20261205
DTEND;VALUE=DATE:20261206
DTSTAMP:20260421T223129
CREATED:20260414T173325Z
LAST-MODIFIED:20260414T173325Z
UID:10000276-1796428800-1796515199@haunsheim.de
SUMMARY:Jahresabschlusskonzert des Musikvereins Haunsheim
DESCRIPTION:
URL:https://haunsheim.de/termin/jahresabschlusskonzert-des-musikvereins-haunsheim-3/
LOCATION:Kornstadl Haunsheim\, Hauptstraße 29\, Haunsheim\, 89437
CATEGORIES:Freizeitaktivität,Konzerte
END:VEVENT
END:VCALENDAR