BEGIN:VCALENDAR
VERSION:2.0
PRODID:-//Gemeinde Haunsheim - ECPv6.15.20//NONSGML v1.0//EN
CALSCALE:GREGORIAN
METHOD:PUBLISH
X-WR-CALNAME:Gemeinde Haunsheim
X-ORIGINAL-URL:https://haunsheim.de
X-WR-CALDESC:Veranstaltungen für Gemeinde Haunsheim
REFRESH-INTERVAL;VALUE=DURATION:PT1H
X-Robots-Tag:noindex
X-PUBLISHED-TTL:PT1H
BEGIN:VTIMEZONE
TZID:Europe/Berlin
BEGIN:DAYLIGHT
TZOFFSETFROM:+0100
TZOFFSETTO:+0200
TZNAME:CEST
DTSTART:20220327T010000
END:DAYLIGHT
BEGIN:STANDARD
TZOFFSETFROM:+0200
TZOFFSETTO:+0100
TZNAME:CET
DTSTART:20221030T010000
END:STANDARD
BEGIN:DAYLIGHT
TZOFFSETFROM:+0100
TZOFFSETTO:+0200
TZNAME:CEST
DTSTART:20230326T010000
END:DAYLIGHT
BEGIN:STANDARD
TZOFFSETFROM:+0200
TZOFFSETTO:+0100
TZNAME:CET
DTSTART:20231029T010000
END:STANDARD
BEGIN:DAYLIGHT
TZOFFSETFROM:+0100
TZOFFSETTO:+0200
TZNAME:CEST
DTSTART:20240331T010000
END:DAYLIGHT
BEGIN:STANDARD
TZOFFSETFROM:+0200
TZOFFSETTO:+0100
TZNAME:CET
DTSTART:20241027T010000
END:STANDARD
BEGIN:DAYLIGHT
TZOFFSETFROM:+0100
TZOFFSETTO:+0200
TZNAME:CEST
DTSTART:20250330T010000
END:DAYLIGHT
BEGIN:STANDARD
TZOFFSETFROM:+0200
TZOFFSETTO:+0100
TZNAME:CET
DTSTART:20251026T010000
END:STANDARD
BEGIN:DAYLIGHT
TZOFFSETFROM:+0100
TZOFFSETTO:+0200
TZNAME:CEST
DTSTART:20260329T010000
END:DAYLIGHT
BEGIN:STANDARD
TZOFFSETFROM:+0200
TZOFFSETTO:+0100
TZNAME:CET
DTSTART:20261025T010000
END:STANDARD
END:VTIMEZONE
BEGIN:VEVENT
DTSTART;TZID=Europe/Berlin:20250328T080000
DTEND;TZID=Europe/Berlin:20250328T170000
DTSTAMP:20260422T000613
CREATED:20250225T173913Z
LAST-MODIFIED:20250225T173913Z
UID:10000169-1743148800-1743181200@haunsheim.de
SUMMARY:Generalversammlung Liedertafel
DESCRIPTION:Die Liedertafel Haunsheim hält ihre Generalversammlung im Zwergbachstüble ab. Beginn ist um 20.00 Uhr
URL:https://haunsheim.de/termin/generalversammlung-liedertafel/
LOCATION:Zwergbachstüble\, Bachstraße 6\, Haunsheim\, Bayern\, 89437\, Deutschland
CATEGORIES:Sitzung
END:VEVENT
BEGIN:VEVENT
DTSTART;TZID=Europe/Berlin:20241215T180000
DTEND;TZID=Europe/Berlin:20241215T193000
DTSTAMP:20260422T000613
CREATED:20231116T220311Z
LAST-MODIFIED:20240203T155135Z
UID:10000099-1734285600-1734291000@haunsheim.de
SUMMARY:Adventskonzert der Liedertafel Haunsheim
DESCRIPTION:
URL:https://haunsheim.de/termin/adventskonzert-2/
LOCATION:Dreifaltigkeitskirche | Haunsheim\, Kirchplatz 3\, Haunsheim\, Bayern\, 89437\, Deutschland
CATEGORIES:Konzerte
END:VEVENT
BEGIN:VEVENT
DTSTART;TZID=Europe/Berlin:20241214T080000
DTEND;TZID=Europe/Berlin:20241215T170000
DTSTAMP:20260422T000613
CREATED:20241017T091023Z
LAST-MODIFIED:20241017T091023Z
UID:10000144-1734163200-1734282000@haunsheim.de
SUMMARY:Liedertafel Haunsheim
DESCRIPTION:
URL:https://haunsheim.de/termin/liedertafel-haunsheim/
LOCATION:Ökonomie Haunsheim\, Hauptstraße 29\, Haunsheim\, Bayern\, 89437\, Deutschland
CATEGORIES:Sitzung
END:VEVENT
BEGIN:VEVENT
DTSTART;VALUE=DATE:20240713
DTEND;VALUE=DATE:20240714
DTSTAMP:20260422T000613
CREATED:20231116T211418Z
LAST-MODIFIED:20231116T211418Z
UID:10000072-1720828800-1720915199@haunsheim.de
SUMMARY:Serenade Musikverein und Liedertafel Haunsheim
DESCRIPTION:
URL:https://haunsheim.de/termin/serenade-musikverein-und-liedertafel-haunsheim/
LOCATION:Kornstadl Haunsheim\, Hauptstraße 29\, Haunsheim\, 89437
CATEGORIES:Konzerte
END:VEVENT
BEGIN:VEVENT
DTSTART;TZID=Europe/Berlin:20240322T200000
DTEND;TZID=Europe/Berlin:20240322T220000
DTSTAMP:20260422T000613
CREATED:20231116T200502Z
LAST-MODIFIED:20231116T202051Z
UID:10000047-1711137600-1711144800@haunsheim.de
SUMMARY:Generalversammlung Liedertafel Haunsheim
DESCRIPTION:
URL:https://haunsheim.de/termin/generalversammlung/
CATEGORIES:Sitzung
END:VEVENT
BEGIN:VEVENT
DTSTART;VALUE=DATE:20231216
DTEND;VALUE=DATE:20231217
DTSTAMP:20260422T000613
CREATED:20231116T185826Z
LAST-MODIFIED:20231116T220454Z
UID:10000024-1702684800-1702771199@haunsheim.de
SUMMARY:Adventskonzert der Liedertafel Haunsheim
DESCRIPTION:
URL:https://haunsheim.de/termin/adventskonzert/
LOCATION:Dreifaltigkeitskirche | Haunsheim\, Kirchplatz 3\, Haunsheim\, Bayern\, 89437\, Deutschland
END:VEVENT
END:VCALENDAR