BEGIN:VCALENDAR
VERSION:2.0
PRODID:-//Gemeinde Haunsheim - ECPv6.15.20//NONSGML v1.0//EN
CALSCALE:GREGORIAN
METHOD:PUBLISH
X-WR-CALNAME:Gemeinde Haunsheim
X-ORIGINAL-URL:https://haunsheim.de
X-WR-CALDESC:Veranstaltungen für Gemeinde Haunsheim
REFRESH-INTERVAL;VALUE=DURATION:PT1H
X-Robots-Tag:noindex
X-PUBLISHED-TTL:PT1H
BEGIN:VTIMEZONE
TZID:Europe/Berlin
BEGIN:DAYLIGHT
TZOFFSETFROM:+0100
TZOFFSETTO:+0200
TZNAME:CEST
DTSTART:20230326T010000
END:DAYLIGHT
BEGIN:STANDARD
TZOFFSETFROM:+0200
TZOFFSETTO:+0100
TZNAME:CET
DTSTART:20231029T010000
END:STANDARD
BEGIN:DAYLIGHT
TZOFFSETFROM:+0100
TZOFFSETTO:+0200
TZNAME:CEST
DTSTART:20240331T010000
END:DAYLIGHT
BEGIN:STANDARD
TZOFFSETFROM:+0200
TZOFFSETTO:+0100
TZNAME:CET
DTSTART:20241027T010000
END:STANDARD
BEGIN:DAYLIGHT
TZOFFSETFROM:+0100
TZOFFSETTO:+0200
TZNAME:CEST
DTSTART:20250330T010000
END:DAYLIGHT
BEGIN:STANDARD
TZOFFSETFROM:+0200
TZOFFSETTO:+0100
TZNAME:CET
DTSTART:20251026T010000
END:STANDARD
BEGIN:DAYLIGHT
TZOFFSETFROM:+0100
TZOFFSETTO:+0200
TZNAME:CEST
DTSTART:20260329T010000
END:DAYLIGHT
BEGIN:STANDARD
TZOFFSETFROM:+0200
TZOFFSETTO:+0100
TZNAME:CET
DTSTART:20261025T010000
END:STANDARD
END:VTIMEZONE
BEGIN:VEVENT
DTSTART;VALUE=DATE:20250726
DTEND;VALUE=DATE:20250727
DTSTAMP:20260422T021345
CREATED:20241105T181922Z
LAST-MODIFIED:20250708T085908Z
UID:10000150-1753488000-1753574399@haunsheim.de
SUMMARY:Grillfest Krieger- und Soldatenverein
DESCRIPTION:Herzliche Einladung an Alle zum alljährlichen Grillfest des Krieger- und Soldatenvereins Haunsheim. \nGefeiert wird im Kornstadel in Haunsheim. \nBeginn 18.30 Uhr
URL:https://haunsheim.de/termin/ksv/
LOCATION:Kornstadl Haunsheim\, Hauptstraße 29\, Haunsheim\, 89437
CATEGORIES:Feste
ORGANIZER;CN="Krieger- und Soldatenverein Haunsheim":MAILTO:rathaus@haunsheim.de
END:VEVENT
BEGIN:VEVENT
DTSTART;VALUE=DATE:20240810
DTEND;VALUE=DATE:20240811
DTSTAMP:20260422T021345
CREATED:20231116T212306Z
LAST-MODIFIED:20231116T212306Z
UID:10000076-1723248000-1723334399@haunsheim.de
SUMMARY:Grillfest des Krieger- und Soldatenvereins
DESCRIPTION:
URL:https://haunsheim.de/termin/grillfest-des-krieger-und-soldatenvereins/
CATEGORIES:Feste,Freizeitaktivität
ORGANIZER;CN="Krieger- und Soldatenverein Haunsheim":MAILTO:rathaus@haunsheim.de
END:VEVENT
BEGIN:VEVENT
DTSTART;VALUE=DATE:20240801
DTEND;VALUE=DATE:20240805
DTSTAMP:20260422T021345
CREATED:20240220T184135Z
LAST-MODIFIED:20240220T184135Z
UID:10000129-1722470400-1722815999@haunsheim.de
SUMMARY:Krieger- und Soldatenverein
DESCRIPTION:
URL:https://haunsheim.de/termin/krieger-und-soldatenverein/
LOCATION:Kornstadl Haunsheim\, Hauptstraße 29\, Haunsheim\, 89437
CATEGORIES:Feste,Freizeitaktivität
ORGANIZER;CN="Krieger- und Soldatenverein Haunsheim":MAILTO:rathaus@haunsheim.de
END:VEVENT
END:VCALENDAR