BEGIN:VCALENDAR
VERSION:2.0
PRODID:-//Gemeinde Haunsheim - ECPv6.15.20//NONSGML v1.0//EN
CALSCALE:GREGORIAN
METHOD:PUBLISH
X-ORIGINAL-URL:https://haunsheim.de
X-WR-CALDESC:Veranstaltungen für Gemeinde Haunsheim
REFRESH-INTERVAL;VALUE=DURATION:PT1H
X-Robots-Tag:noindex
X-PUBLISHED-TTL:PT1H
BEGIN:VTIMEZONE
TZID:Europe/Berlin
BEGIN:DAYLIGHT
TZOFFSETFROM:+0100
TZOFFSETTO:+0200
TZNAME:CEST
DTSTART:20250330T010000
END:DAYLIGHT
BEGIN:STANDARD
TZOFFSETFROM:+0200
TZOFFSETTO:+0100
TZNAME:CET
DTSTART:20251026T010000
END:STANDARD
BEGIN:DAYLIGHT
TZOFFSETFROM:+0100
TZOFFSETTO:+0200
TZNAME:CEST
DTSTART:20260329T010000
END:DAYLIGHT
BEGIN:STANDARD
TZOFFSETFROM:+0200
TZOFFSETTO:+0100
TZNAME:CET
DTSTART:20261025T010000
END:STANDARD
BEGIN:DAYLIGHT
TZOFFSETFROM:+0100
TZOFFSETTO:+0200
TZNAME:CEST
DTSTART:20270328T010000
END:DAYLIGHT
BEGIN:STANDARD
TZOFFSETFROM:+0200
TZOFFSETTO:+0100
TZNAME:CET
DTSTART:20271031T010000
END:STANDARD
END:VTIMEZONE
BEGIN:VEVENT
DTSTART;TZID=Europe/Berlin:20261128T140000
DTEND;TZID=Europe/Berlin:20261128T190000
DTSTAMP:20260421T224708
CREATED:20260414T173230Z
LAST-MODIFIED:20260414T173230Z
UID:10000275-1795874400-1795892400@haunsheim.de
SUMMARY:Adventstreff am Mehrgenerationenplatz in Unterbechingen
DESCRIPTION:Der Heimatverein Unterbechingen lädt zum Adventstreff am Mehrgenerationenplatz in Unterbechingen ein. (Sachenhauser Straße)
URL:https://haunsheim.de/termin/adventstreff-am-mehrgenerationenplatz-in-unterbechingen/
LOCATION:Mehrgenerationenplatz Unterbechingen\, Sachsenhauser Straße 3\, Haunsheim\, Bayern\, 89437\, Deutschland
CATEGORIES:Freizeitaktivität
ORGANIZER;CN="Heimatverein Unterbechingen":MAILTO:k_hille@freenet.de
END:VEVENT
END:VCALENDAR