BEGIN:VCALENDAR
VERSION:2.0
PRODID:-//Gemeinde Haunsheim - ECPv6.15.20//NONSGML v1.0//EN
CALSCALE:GREGORIAN
METHOD:PUBLISH
X-WR-CALNAME:Gemeinde Haunsheim
X-ORIGINAL-URL:https://haunsheim.de
X-WR-CALDESC:Veranstaltungen für Gemeinde Haunsheim
REFRESH-INTERVAL;VALUE=DURATION:PT1H
X-Robots-Tag:noindex
X-PUBLISHED-TTL:PT1H
BEGIN:VTIMEZONE
TZID:Europe/Berlin
BEGIN:DAYLIGHT
TZOFFSETFROM:+0100
TZOFFSETTO:+0200
TZNAME:CEST
DTSTART:20230326T010000
END:DAYLIGHT
BEGIN:STANDARD
TZOFFSETFROM:+0200
TZOFFSETTO:+0100
TZNAME:CET
DTSTART:20231029T010000
END:STANDARD
BEGIN:DAYLIGHT
TZOFFSETFROM:+0100
TZOFFSETTO:+0200
TZNAME:CEST
DTSTART:20240331T010000
END:DAYLIGHT
BEGIN:STANDARD
TZOFFSETFROM:+0200
TZOFFSETTO:+0100
TZNAME:CET
DTSTART:20241027T010000
END:STANDARD
BEGIN:DAYLIGHT
TZOFFSETFROM:+0100
TZOFFSETTO:+0200
TZNAME:CEST
DTSTART:20250330T010000
END:DAYLIGHT
BEGIN:STANDARD
TZOFFSETFROM:+0200
TZOFFSETTO:+0100
TZNAME:CET
DTSTART:20251026T010000
END:STANDARD
BEGIN:DAYLIGHT
TZOFFSETFROM:+0100
TZOFFSETTO:+0200
TZNAME:CEST
DTSTART:20260329T010000
END:DAYLIGHT
BEGIN:STANDARD
TZOFFSETFROM:+0200
TZOFFSETTO:+0100
TZNAME:CET
DTSTART:20261025T010000
END:STANDARD
END:VTIMEZONE
BEGIN:VEVENT
DTSTART;VALUE=DATE:20250510
DTEND;VALUE=DATE:20250511
DTSTAMP:20260422T002859
CREATED:20250225T182828Z
LAST-MODIFIED:20250225T182828Z
UID:10000190-1746835200-1746921599@haunsheim.de
SUMMARY:Kabarett "Matthias Tretter"
DESCRIPTION:Der Freundeskreis Schloss Haunsheim veranstaltet im Gewölbekeller des Schlosses eine Kabarett-Veranstaltung. \nZu Gast ist Matthias Tretter \nUhrzeit wird noch bekannt gegeben.
URL:https://haunsheim.de/termin/kabarett-matthias-tretter/
LOCATION:Schloss Haunsheim\, Schloßstraße 24\, Haunsheim\, Bayern\, 89437\, Deutschland
CATEGORIES:Freizeitaktivität
ORGANIZER;CN="Freundeskreis Schloss Haunsheim":MAILTO:info@schloss-haunsheim.de
END:VEVENT
BEGIN:VEVENT
DTSTART;VALUE=DATE:20240714
DTEND;VALUE=DATE:20240715
DTSTAMP:20260422T002859
CREATED:20231116T211253Z
LAST-MODIFIED:20231116T211253Z
UID:10000071-1720915200-1721001599@haunsheim.de
SUMMARY:Jazz Frühschoppen mit dem Wolfgang Düthorn-Quintett - Freundeskreis Schloss Haunsheim
DESCRIPTION:Open Air
URL:https://haunsheim.de/termin/jazz-fruehschoppen-mit-dem-wolfgang-duethorn-quintett-freundeskreis-schloss-haunsheim/
LOCATION:Schloss Haunsheim\, Schloßstraße 24\, Haunsheim\, Bayern\, 89437\, Deutschland
CATEGORIES:Konzerte
ORGANIZER;CN="Freundeskreis Schloss Haunsheim":MAILTO:info@schloss-haunsheim.de
END:VEVENT
BEGIN:VEVENT
DTSTART;VALUE=DATE:20240608
DTEND;VALUE=DATE:20240609
DTSTAMP:20260422T002859
CREATED:20231116T210450Z
LAST-MODIFIED:20231116T210450Z
UID:10000067-1717804800-1717891199@haunsheim.de
SUMMARY:Klassik in der Orangerie - Freundeskreis Schloss Haunsheim
DESCRIPTION:
URL:https://haunsheim.de/termin/klassik-in-der-orangerie-freundeskreis-schloss-haunsheim/
LOCATION:Schloss Haunsheim\, Schloßstraße 24\, Haunsheim\, Bayern\, 89437\, Deutschland
CATEGORIES:Freizeitaktivität,Konzerte
ORGANIZER;CN="Freundeskreis Schloss Haunsheim":MAILTO:info@schloss-haunsheim.de
END:VEVENT
BEGIN:VEVENT
DTSTART;VALUE=DATE:20240517
DTEND;VALUE=DATE:20240518
DTSTAMP:20260422T002859
CREATED:20231116T205506Z
LAST-MODIFIED:20231116T205506Z
UID:10000063-1715904000-1715990399@haunsheim.de
SUMMARY:Kabarett mit Marianne Schätzle - Freundeskreis Schloss Haunsheim
DESCRIPTION:Gewölbekeller Schloss Haunsheim
URL:https://haunsheim.de/termin/kabarett-mit-marianne-schaetzle-freundeskreis-schloss-haunsheim/
LOCATION:Schloss Haunsheim\, Schloßstraße 24\, Haunsheim\, Bayern\, 89437\, Deutschland
CATEGORIES:Freizeitaktivität
ORGANIZER;CN="Freundeskreis Schloss Haunsheim":MAILTO:info@schloss-haunsheim.de
END:VEVENT
BEGIN:VEVENT
DTSTART;VALUE=DATE:20240426
DTEND;VALUE=DATE:20240427
DTSTAMP:20260422T002859
CREATED:20231116T204310Z
LAST-MODIFIED:20231116T204310Z
UID:10000057-1714089600-1714175999@haunsheim.de
SUMMARY:Freundeskreis Schloss Haunsheim "Schwarze Grütze"
DESCRIPTION:Gewölbekeller
URL:https://haunsheim.de/termin/freundeskreis-schloss-haunsheim-schwarze-gruetze/
LOCATION:Schloss Haunsheim\, Schloßstraße 24\, Haunsheim\, Bayern\, 89437\, Deutschland
CATEGORIES:Freizeitaktivität
ORGANIZER;CN="Freundeskreis Schloss Haunsheim":MAILTO:info@schloss-haunsheim.de
END:VEVENT
END:VCALENDAR